BEGIN:VCALENDAR
VERSION:2.0
PRODID:-//Dizy - Porte du Vignoble - ECPv6.0.13.1//NONSGML v1.0//EN
CALSCALE:GREGORIAN
METHOD:PUBLISH
X-ORIGINAL-URL:https://www.dizy.fr
X-WR-CALDESC:évènements pour Dizy - Porte du Vignoble
REFRESH-INTERVAL;VALUE=DURATION:PT1H
X-Robots-Tag:noindex
X-PUBLISHED-TTL:PT1H
BEGIN:VTIMEZONE
TZID:Europe/Paris
BEGIN:DAYLIGHT
TZOFFSETFROM:+0100
TZOFFSETTO:+0200
TZNAME:CEST
DTSTART:20230326T010000
END:DAYLIGHT
BEGIN:STANDARD
TZOFFSETFROM:+0200
TZOFFSETTO:+0100
TZNAME:CET
DTSTART:20231029T010000
END:STANDARD
END:VTIMEZONE
BEGIN:VEVENT
DTSTART;TZID=Europe/Paris:20231027T174500
DTEND;TZID=Europe/Paris:20231027T194500
DTSTAMP:20260424T100853
CREATED:20230828T145650Z
LAST-MODIFIED:20230828T145650Z
UID:10001329-1698428700-1698435900@www.dizy.fr
SUMMARY:Zumba - USD Section Kuduro Fit Zumba
DESCRIPTION:
URL:https://www.dizy.fr/evenement/zumba-usd-section-kuduro-fit-zumba/2023-10-27/
LOCATION:Salle omnisports\, 51 rue de la Briquèterie\, DIZY\, Sélectionner un État :\, 51530\, France
CATEGORIES:Agenda
END:VEVENT
BEGIN:VEVENT
DTSTART;TZID=Europe/Paris:20231024T173000
DTEND;TZID=Europe/Paris:20231024T193000
DTSTAMP:20260424T100853
CREATED:20230828T145414Z
LAST-MODIFIED:20230828T145414Z
UID:10001285-1698168600-1698175800@www.dizy.fr
SUMMARY:Kuduro Fit - USD Section Kuduro Fit Zumba
DESCRIPTION:
URL:https://www.dizy.fr/evenement/kuduro-fit-usd-section-kuduro-fit-zumba/2023-10-24/
LOCATION:Salle omnisports\, 51 rue de la Briquèterie\, DIZY\, Sélectionner un État :\, 51530\, France
CATEGORIES:Agenda
END:VEVENT
BEGIN:VEVENT
DTSTART;TZID=Europe/Paris:20231020T174500
DTEND;TZID=Europe/Paris:20231020T194500
DTSTAMP:20260424T100853
CREATED:20230828T145650Z
LAST-MODIFIED:20230828T145650Z
UID:10001328-1697823900-1697831100@www.dizy.fr
SUMMARY:Zumba - USD Section Kuduro Fit Zumba
DESCRIPTION:
URL:https://www.dizy.fr/evenement/zumba-usd-section-kuduro-fit-zumba/2023-10-20/
LOCATION:Salle omnisports\, 51 rue de la Briquèterie\, DIZY\, Sélectionner un État :\, 51530\, France
CATEGORIES:Agenda
END:VEVENT
BEGIN:VEVENT
DTSTART;TZID=Europe/Paris:20231017T173000
DTEND;TZID=Europe/Paris:20231017T193000
DTSTAMP:20260424T100853
CREATED:20230828T145414Z
LAST-MODIFIED:20230828T145414Z
UID:10001284-1697563800-1697571000@www.dizy.fr
SUMMARY:Kuduro Fit - USD Section Kuduro Fit Zumba
DESCRIPTION:
URL:https://www.dizy.fr/evenement/kuduro-fit-usd-section-kuduro-fit-zumba/2023-10-17/
LOCATION:Salle omnisports\, 51 rue de la Briquèterie\, DIZY\, Sélectionner un État :\, 51530\, France
CATEGORIES:Agenda
END:VEVENT
BEGIN:VEVENT
DTSTART;TZID=Europe/Paris:20231013T174500
DTEND;TZID=Europe/Paris:20231013T194500
DTSTAMP:20260424T100853
CREATED:20230828T145650Z
LAST-MODIFIED:20230828T145650Z
UID:10001327-1697219100-1697226300@www.dizy.fr
SUMMARY:Zumba - USD Section Kuduro Fit Zumba
DESCRIPTION:
URL:https://www.dizy.fr/evenement/zumba-usd-section-kuduro-fit-zumba/2023-10-13/
LOCATION:Salle omnisports\, 51 rue de la Briquèterie\, DIZY\, Sélectionner un État :\, 51530\, France
CATEGORIES:Agenda
END:VEVENT
BEGIN:VEVENT
DTSTART;TZID=Europe/Paris:20231010T173000
DTEND;TZID=Europe/Paris:20231010T193000
DTSTAMP:20260424T100853
CREATED:20230828T145414Z
LAST-MODIFIED:20230828T145414Z
UID:10001283-1696959000-1696966200@www.dizy.fr
SUMMARY:Kuduro Fit - USD Section Kuduro Fit Zumba
DESCRIPTION:
URL:https://www.dizy.fr/evenement/kuduro-fit-usd-section-kuduro-fit-zumba/2023-10-10/
LOCATION:Salle omnisports\, 51 rue de la Briquèterie\, DIZY\, Sélectionner un État :\, 51530\, France
CATEGORIES:Agenda
END:VEVENT
BEGIN:VEVENT
DTSTART;TZID=Europe/Paris:20231006T174500
DTEND;TZID=Europe/Paris:20231006T194500
DTSTAMP:20260424T100853
CREATED:20230828T145650Z
LAST-MODIFIED:20230828T145650Z
UID:10001326-1696614300-1696621500@www.dizy.fr
SUMMARY:Zumba - USD Section Kuduro Fit Zumba
DESCRIPTION:
URL:https://www.dizy.fr/evenement/zumba-usd-section-kuduro-fit-zumba/2023-10-06/
LOCATION:Salle omnisports\, 51 rue de la Briquèterie\, DIZY\, Sélectionner un État :\, 51530\, France
CATEGORIES:Agenda
END:VEVENT
BEGIN:VEVENT
DTSTART;TZID=Europe/Paris:20231003T173000
DTEND;TZID=Europe/Paris:20231003T193000
DTSTAMP:20260424T100853
CREATED:20230828T145414Z
LAST-MODIFIED:20230828T145414Z
UID:10001282-1696354200-1696361400@www.dizy.fr
SUMMARY:Kuduro Fit - USD Section Kuduro Fit Zumba
DESCRIPTION:
URL:https://www.dizy.fr/evenement/kuduro-fit-usd-section-kuduro-fit-zumba/2023-10-03/
LOCATION:Salle omnisports\, 51 rue de la Briquèterie\, DIZY\, Sélectionner un État :\, 51530\, France
CATEGORIES:Agenda
END:VEVENT
BEGIN:VEVENT
DTSTART;TZID=Europe/Paris:20230929T174500
DTEND;TZID=Europe/Paris:20230929T194500
DTSTAMP:20260424T100853
CREATED:20230828T145650Z
LAST-MODIFIED:20230828T145650Z
UID:10001325-1696009500-1696016700@www.dizy.fr
SUMMARY:Zumba - USD Section Kuduro Fit Zumba
DESCRIPTION:
URL:https://www.dizy.fr/evenement/zumba-usd-section-kuduro-fit-zumba/2023-09-29/
LOCATION:Salle omnisports\, 51 rue de la Briquèterie\, DIZY\, Sélectionner un État :\, 51530\, France
CATEGORIES:Agenda
END:VEVENT
BEGIN:VEVENT
DTSTART;TZID=Europe/Paris:20230926T173000
DTEND;TZID=Europe/Paris:20230926T193000
DTSTAMP:20260424T100853
CREATED:20230828T145414Z
LAST-MODIFIED:20230828T145414Z
UID:10001281-1695749400-1695756600@www.dizy.fr
SUMMARY:Kuduro Fit - USD Section Kuduro Fit Zumba
DESCRIPTION:
URL:https://www.dizy.fr/evenement/kuduro-fit-usd-section-kuduro-fit-zumba/2023-09-26/
LOCATION:Salle omnisports\, 51 rue de la Briquèterie\, DIZY\, Sélectionner un État :\, 51530\, France
CATEGORIES:Agenda
END:VEVENT
BEGIN:VEVENT
DTSTART;TZID=Europe/Paris:20230922T174500
DTEND;TZID=Europe/Paris:20230922T194500
DTSTAMP:20260424T100853
CREATED:20230828T145650Z
LAST-MODIFIED:20230828T145650Z
UID:10001324-1695404700-1695411900@www.dizy.fr
SUMMARY:Zumba - USD Section Kuduro Fit Zumba
DESCRIPTION:
URL:https://www.dizy.fr/evenement/zumba-usd-section-kuduro-fit-zumba/2023-09-22/
LOCATION:Salle omnisports\, 51 rue de la Briquèterie\, DIZY\, Sélectionner un État :\, 51530\, France
CATEGORIES:Agenda
END:VEVENT
BEGIN:VEVENT
DTSTART;TZID=Europe/Paris:20230919T173000
DTEND;TZID=Europe/Paris:20230919T193000
DTSTAMP:20260424T100853
CREATED:20230828T145414Z
LAST-MODIFIED:20230828T145414Z
UID:10001280-1695144600-1695151800@www.dizy.fr
SUMMARY:Kuduro Fit - USD Section Kuduro Fit Zumba
DESCRIPTION:
URL:https://www.dizy.fr/evenement/kuduro-fit-usd-section-kuduro-fit-zumba/2023-09-19/
LOCATION:Salle omnisports\, 51 rue de la Briquèterie\, DIZY\, Sélectionner un État :\, 51530\, France
CATEGORIES:Agenda
END:VEVENT
BEGIN:VEVENT
DTSTART;TZID=Europe/Paris:20230915T174500
DTEND;TZID=Europe/Paris:20230915T194500
DTSTAMP:20260424T100853
CREATED:20230828T145650Z
LAST-MODIFIED:20230828T145650Z
UID:10001323-1694799900-1694807100@www.dizy.fr
SUMMARY:Zumba - USD Section Kuduro Fit Zumba
DESCRIPTION:
URL:https://www.dizy.fr/evenement/zumba-usd-section-kuduro-fit-zumba/2023-09-15/
LOCATION:Salle omnisports\, 51 rue de la Briquèterie\, DIZY\, Sélectionner un État :\, 51530\, France
CATEGORIES:Agenda
END:VEVENT
BEGIN:VEVENT
DTSTART;TZID=Europe/Paris:20230912T173000
DTEND;TZID=Europe/Paris:20230912T193000
DTSTAMP:20260424T100853
CREATED:20230828T145414Z
LAST-MODIFIED:20230828T145414Z
UID:10001279-1694539800-1694547000@www.dizy.fr
SUMMARY:Kuduro Fit - USD Section Kuduro Fit Zumba
DESCRIPTION:
URL:https://www.dizy.fr/evenement/kuduro-fit-usd-section-kuduro-fit-zumba/2023-09-12/
LOCATION:Salle omnisports\, 51 rue de la Briquèterie\, DIZY\, Sélectionner un État :\, 51530\, France
CATEGORIES:Agenda
END:VEVENT
BEGIN:VEVENT
DTSTART;TZID=Europe/Paris:20230908T174500
DTEND;TZID=Europe/Paris:20230908T194500
DTSTAMP:20260424T100853
CREATED:20230828T145650Z
LAST-MODIFIED:20230828T145650Z
UID:10001322-1694195100-1694202300@www.dizy.fr
SUMMARY:Zumba - USD Section Kuduro Fit Zumba
DESCRIPTION:
URL:https://www.dizy.fr/evenement/zumba-usd-section-kuduro-fit-zumba/2023-09-08/
LOCATION:Salle omnisports\, 51 rue de la Briquèterie\, DIZY\, Sélectionner un État :\, 51530\, France
CATEGORIES:Agenda
END:VEVENT
BEGIN:VEVENT
DTSTART;TZID=Europe/Paris:20230905T173000
DTEND;TZID=Europe/Paris:20230905T193000
DTSTAMP:20260424T100853
CREATED:20230828T145414Z
LAST-MODIFIED:20230828T145414Z
UID:10001278-1693935000-1693942200@www.dizy.fr
SUMMARY:Kuduro Fit - USD Section Kuduro Fit Zumba
DESCRIPTION:
URL:https://www.dizy.fr/evenement/kuduro-fit-usd-section-kuduro-fit-zumba/2023-09-05/
LOCATION:Salle omnisports\, 51 rue de la Briquèterie\, DIZY\, Sélectionner un État :\, 51530\, France
CATEGORIES:Agenda
END:VEVENT
END:VCALENDAR