BEGIN:VCALENDAR
VERSION:2.0
PRODID:-//Dizy - Porte du Vignoble - ECPv6.0.13.1//NONSGML v1.0//EN
CALSCALE:GREGORIAN
METHOD:PUBLISH
X-ORIGINAL-URL:https://www.dizy.fr
X-WR-CALDESC:évènements pour Dizy - Porte du Vignoble
REFRESH-INTERVAL;VALUE=DURATION:PT1H
X-Robots-Tag:noindex
X-PUBLISHED-TTL:PT1H
BEGIN:VTIMEZONE
TZID:Europe/Paris
BEGIN:DAYLIGHT
TZOFFSETFROM:+0100
TZOFFSETTO:+0200
TZNAME:CEST
DTSTART:20230326T010000
END:DAYLIGHT
BEGIN:STANDARD
TZOFFSETFROM:+0200
TZOFFSETTO:+0100
TZNAME:CET
DTSTART:20231029T010000
END:STANDARD
BEGIN:DAYLIGHT
TZOFFSETFROM:+0100
TZOFFSETTO:+0200
TZNAME:CEST
DTSTART:20240331T010000
END:DAYLIGHT
BEGIN:STANDARD
TZOFFSETFROM:+0200
TZOFFSETTO:+0100
TZNAME:CET
DTSTART:20241027T010000
END:STANDARD
END:VTIMEZONE
BEGIN:VEVENT
DTSTART;TZID=Europe/Paris:20240301T174500
DTEND;TZID=Europe/Paris:20240301T194500
DTSTAMP:20260424T051906
CREATED:20230828T145650Z
LAST-MODIFIED:20230828T145650Z
UID:10001347-1709315100-1709322300@www.dizy.fr
SUMMARY:Zumba - USD Section Kuduro Fit Zumba
DESCRIPTION:
URL:https://www.dizy.fr/evenement/zumba-usd-section-kuduro-fit-zumba/2024-03-01/
LOCATION:Salle omnisports\, 51 rue de la Briquèterie\, DIZY\, Sélectionner un État :\, 51530\, France
CATEGORIES:Agenda
END:VEVENT
BEGIN:VEVENT
DTSTART;TZID=Europe/Paris:20240227T173000
DTEND;TZID=Europe/Paris:20240227T193000
DTSTAMP:20260424T051906
CREATED:20230828T145414Z
LAST-MODIFIED:20230828T145414Z
UID:10001303-1709055000-1709062200@www.dizy.fr
SUMMARY:Kuduro Fit - USD Section Kuduro Fit Zumba
DESCRIPTION:
URL:https://www.dizy.fr/evenement/kuduro-fit-usd-section-kuduro-fit-zumba/2024-02-27/
LOCATION:Salle omnisports\, 51 rue de la Briquèterie\, DIZY\, Sélectionner un État :\, 51530\, France
CATEGORIES:Agenda
END:VEVENT
BEGIN:VEVENT
DTSTART;TZID=Europe/Paris:20240223T174500
DTEND;TZID=Europe/Paris:20240223T194500
DTSTAMP:20260424T051906
CREATED:20230828T145650Z
LAST-MODIFIED:20230828T145650Z
UID:10001346-1708710300-1708717500@www.dizy.fr
SUMMARY:Zumba - USD Section Kuduro Fit Zumba
DESCRIPTION:
URL:https://www.dizy.fr/evenement/zumba-usd-section-kuduro-fit-zumba/2024-02-23/
LOCATION:Salle omnisports\, 51 rue de la Briquèterie\, DIZY\, Sélectionner un État :\, 51530\, France
CATEGORIES:Agenda
END:VEVENT
BEGIN:VEVENT
DTSTART;TZID=Europe/Paris:20240220T173000
DTEND;TZID=Europe/Paris:20240220T193000
DTSTAMP:20260424T051906
CREATED:20230828T145414Z
LAST-MODIFIED:20230828T145414Z
UID:10001302-1708450200-1708457400@www.dizy.fr
SUMMARY:Kuduro Fit - USD Section Kuduro Fit Zumba
DESCRIPTION:
URL:https://www.dizy.fr/evenement/kuduro-fit-usd-section-kuduro-fit-zumba/2024-02-20/
LOCATION:Salle omnisports\, 51 rue de la Briquèterie\, DIZY\, Sélectionner un État :\, 51530\, France
CATEGORIES:Agenda
END:VEVENT
BEGIN:VEVENT
DTSTART;TZID=Europe/Paris:20240216T174500
DTEND;TZID=Europe/Paris:20240216T194500
DTSTAMP:20260424T051906
CREATED:20230828T145650Z
LAST-MODIFIED:20230828T145650Z
UID:10001345-1708105500-1708112700@www.dizy.fr
SUMMARY:Zumba - USD Section Kuduro Fit Zumba
DESCRIPTION:
URL:https://www.dizy.fr/evenement/zumba-usd-section-kuduro-fit-zumba/2024-02-16/
LOCATION:Salle omnisports\, 51 rue de la Briquèterie\, DIZY\, Sélectionner un État :\, 51530\, France
CATEGORIES:Agenda
END:VEVENT
BEGIN:VEVENT
DTSTART;TZID=Europe/Paris:20240213T173000
DTEND;TZID=Europe/Paris:20240213T193000
DTSTAMP:20260424T051906
CREATED:20230828T145414Z
LAST-MODIFIED:20230828T145414Z
UID:10001301-1707845400-1707852600@www.dizy.fr
SUMMARY:Kuduro Fit - USD Section Kuduro Fit Zumba
DESCRIPTION:
URL:https://www.dizy.fr/evenement/kuduro-fit-usd-section-kuduro-fit-zumba/2024-02-13/
LOCATION:Salle omnisports\, 51 rue de la Briquèterie\, DIZY\, Sélectionner un État :\, 51530\, France
CATEGORIES:Agenda
END:VEVENT
BEGIN:VEVENT
DTSTART;TZID=Europe/Paris:20240209T174500
DTEND;TZID=Europe/Paris:20240209T194500
DTSTAMP:20260424T051906
CREATED:20230828T145650Z
LAST-MODIFIED:20230828T145650Z
UID:10001344-1707500700-1707507900@www.dizy.fr
SUMMARY:Zumba - USD Section Kuduro Fit Zumba
DESCRIPTION:
URL:https://www.dizy.fr/evenement/zumba-usd-section-kuduro-fit-zumba/2024-02-09/
LOCATION:Salle omnisports\, 51 rue de la Briquèterie\, DIZY\, Sélectionner un État :\, 51530\, France
CATEGORIES:Agenda
END:VEVENT
BEGIN:VEVENT
DTSTART;TZID=Europe/Paris:20240206T173000
DTEND;TZID=Europe/Paris:20240206T193000
DTSTAMP:20260424T051906
CREATED:20230828T145414Z
LAST-MODIFIED:20230828T145414Z
UID:10001300-1707240600-1707247800@www.dizy.fr
SUMMARY:Kuduro Fit - USD Section Kuduro Fit Zumba
DESCRIPTION:
URL:https://www.dizy.fr/evenement/kuduro-fit-usd-section-kuduro-fit-zumba/2024-02-06/
LOCATION:Salle omnisports\, 51 rue de la Briquèterie\, DIZY\, Sélectionner un État :\, 51530\, France
CATEGORIES:Agenda
END:VEVENT
BEGIN:VEVENT
DTSTART;TZID=Europe/Paris:20240202T174500
DTEND;TZID=Europe/Paris:20240202T194500
DTSTAMP:20260424T051906
CREATED:20230828T145650Z
LAST-MODIFIED:20230828T145650Z
UID:10001343-1706895900-1706903100@www.dizy.fr
SUMMARY:Zumba - USD Section Kuduro Fit Zumba
DESCRIPTION:
URL:https://www.dizy.fr/evenement/zumba-usd-section-kuduro-fit-zumba/2024-02-02/
LOCATION:Salle omnisports\, 51 rue de la Briquèterie\, DIZY\, Sélectionner un État :\, 51530\, France
CATEGORIES:Agenda
END:VEVENT
BEGIN:VEVENT
DTSTART;TZID=Europe/Paris:20240130T173000
DTEND;TZID=Europe/Paris:20240130T193000
DTSTAMP:20260424T051906
CREATED:20230828T145414Z
LAST-MODIFIED:20230828T145414Z
UID:10001299-1706635800-1706643000@www.dizy.fr
SUMMARY:Kuduro Fit - USD Section Kuduro Fit Zumba
DESCRIPTION:
URL:https://www.dizy.fr/evenement/kuduro-fit-usd-section-kuduro-fit-zumba/2024-01-30/
LOCATION:Salle omnisports\, 51 rue de la Briquèterie\, DIZY\, Sélectionner un État :\, 51530\, France
CATEGORIES:Agenda
END:VEVENT
BEGIN:VEVENT
DTSTART;TZID=Europe/Paris:20240126T174500
DTEND;TZID=Europe/Paris:20240126T194500
DTSTAMP:20260424T051906
CREATED:20230828T145650Z
LAST-MODIFIED:20230828T145650Z
UID:10001342-1706291100-1706298300@www.dizy.fr
SUMMARY:Zumba - USD Section Kuduro Fit Zumba
DESCRIPTION:
URL:https://www.dizy.fr/evenement/zumba-usd-section-kuduro-fit-zumba/2024-01-26/
LOCATION:Salle omnisports\, 51 rue de la Briquèterie\, DIZY\, Sélectionner un État :\, 51530\, France
CATEGORIES:Agenda
END:VEVENT
BEGIN:VEVENT
DTSTART;TZID=Europe/Paris:20240123T173000
DTEND;TZID=Europe/Paris:20240123T193000
DTSTAMP:20260424T051906
CREATED:20230828T145414Z
LAST-MODIFIED:20230828T145414Z
UID:10001298-1706031000-1706038200@www.dizy.fr
SUMMARY:Kuduro Fit - USD Section Kuduro Fit Zumba
DESCRIPTION:
URL:https://www.dizy.fr/evenement/kuduro-fit-usd-section-kuduro-fit-zumba/2024-01-23/
LOCATION:Salle omnisports\, 51 rue de la Briquèterie\, DIZY\, Sélectionner un État :\, 51530\, France
CATEGORIES:Agenda
END:VEVENT
BEGIN:VEVENT
DTSTART;TZID=Europe/Paris:20240119T174500
DTEND;TZID=Europe/Paris:20240119T194500
DTSTAMP:20260424T051906
CREATED:20230828T145650Z
LAST-MODIFIED:20230828T145650Z
UID:10001341-1705686300-1705693500@www.dizy.fr
SUMMARY:Zumba - USD Section Kuduro Fit Zumba
DESCRIPTION:
URL:https://www.dizy.fr/evenement/zumba-usd-section-kuduro-fit-zumba/2024-01-19/
LOCATION:Salle omnisports\, 51 rue de la Briquèterie\, DIZY\, Sélectionner un État :\, 51530\, France
CATEGORIES:Agenda
END:VEVENT
BEGIN:VEVENT
DTSTART;TZID=Europe/Paris:20240116T173000
DTEND;TZID=Europe/Paris:20240116T193000
DTSTAMP:20260424T051906
CREATED:20230828T145414Z
LAST-MODIFIED:20230828T145414Z
UID:10001297-1705426200-1705433400@www.dizy.fr
SUMMARY:Kuduro Fit - USD Section Kuduro Fit Zumba
DESCRIPTION:
URL:https://www.dizy.fr/evenement/kuduro-fit-usd-section-kuduro-fit-zumba/2024-01-16/
LOCATION:Salle omnisports\, 51 rue de la Briquèterie\, DIZY\, Sélectionner un État :\, 51530\, France
CATEGORIES:Agenda
END:VEVENT
BEGIN:VEVENT
DTSTART;TZID=Europe/Paris:20240112T174500
DTEND;TZID=Europe/Paris:20240112T194500
DTSTAMP:20260424T051906
CREATED:20230828T145650Z
LAST-MODIFIED:20230828T145650Z
UID:10001340-1705081500-1705088700@www.dizy.fr
SUMMARY:Zumba - USD Section Kuduro Fit Zumba
DESCRIPTION:
URL:https://www.dizy.fr/evenement/zumba-usd-section-kuduro-fit-zumba/2024-01-12/
LOCATION:Salle omnisports\, 51 rue de la Briquèterie\, DIZY\, Sélectionner un État :\, 51530\, France
CATEGORIES:Agenda
END:VEVENT
BEGIN:VEVENT
DTSTART;TZID=Europe/Paris:20240109T173000
DTEND;TZID=Europe/Paris:20240109T193000
DTSTAMP:20260424T051906
CREATED:20230828T145414Z
LAST-MODIFIED:20230828T145414Z
UID:10001296-1704821400-1704828600@www.dizy.fr
SUMMARY:Kuduro Fit - USD Section Kuduro Fit Zumba
DESCRIPTION:
URL:https://www.dizy.fr/evenement/kuduro-fit-usd-section-kuduro-fit-zumba/2024-01-09/
LOCATION:Salle omnisports\, 51 rue de la Briquèterie\, DIZY\, Sélectionner un État :\, 51530\, France
CATEGORIES:Agenda
END:VEVENT
BEGIN:VEVENT
DTSTART;TZID=Europe/Paris:20240105T174500
DTEND;TZID=Europe/Paris:20240105T194500
DTSTAMP:20260424T051906
CREATED:20230828T145650Z
LAST-MODIFIED:20230828T145650Z
UID:10001339-1704476700-1704483900@www.dizy.fr
SUMMARY:Zumba - USD Section Kuduro Fit Zumba
DESCRIPTION:
URL:https://www.dizy.fr/evenement/zumba-usd-section-kuduro-fit-zumba/2024-01-05/
LOCATION:Salle omnisports\, 51 rue de la Briquèterie\, DIZY\, Sélectionner un État :\, 51530\, France
CATEGORIES:Agenda
END:VEVENT
BEGIN:VEVENT
DTSTART;TZID=Europe/Paris:20240102T173000
DTEND;TZID=Europe/Paris:20240102T193000
DTSTAMP:20260424T051906
CREATED:20230828T145414Z
LAST-MODIFIED:20230828T145414Z
UID:10001295-1704216600-1704223800@www.dizy.fr
SUMMARY:Kuduro Fit - USD Section Kuduro Fit Zumba
DESCRIPTION:
URL:https://www.dizy.fr/evenement/kuduro-fit-usd-section-kuduro-fit-zumba/2024-01-02/
LOCATION:Salle omnisports\, 51 rue de la Briquèterie\, DIZY\, Sélectionner un État :\, 51530\, France
CATEGORIES:Agenda
END:VEVENT
BEGIN:VEVENT
DTSTART;TZID=Europe/Paris:20231229T174500
DTEND;TZID=Europe/Paris:20231229T194500
DTSTAMP:20260424T051906
CREATED:20230828T145650Z
LAST-MODIFIED:20230828T145650Z
UID:10001338-1703871900-1703879100@www.dizy.fr
SUMMARY:Zumba - USD Section Kuduro Fit Zumba
DESCRIPTION:
URL:https://www.dizy.fr/evenement/zumba-usd-section-kuduro-fit-zumba/2023-12-29/
LOCATION:Salle omnisports\, 51 rue de la Briquèterie\, DIZY\, Sélectionner un État :\, 51530\, France
CATEGORIES:Agenda
END:VEVENT
BEGIN:VEVENT
DTSTART;TZID=Europe/Paris:20231226T173000
DTEND;TZID=Europe/Paris:20231226T193000
DTSTAMP:20260424T051906
CREATED:20230828T145414Z
LAST-MODIFIED:20230828T145414Z
UID:10001294-1703611800-1703619000@www.dizy.fr
SUMMARY:Kuduro Fit - USD Section Kuduro Fit Zumba
DESCRIPTION:
URL:https://www.dizy.fr/evenement/kuduro-fit-usd-section-kuduro-fit-zumba/2023-12-26/
LOCATION:Salle omnisports\, 51 rue de la Briquèterie\, DIZY\, Sélectionner un État :\, 51530\, France
CATEGORIES:Agenda
END:VEVENT
BEGIN:VEVENT
DTSTART;TZID=Europe/Paris:20231222T174500
DTEND;TZID=Europe/Paris:20231222T194500
DTSTAMP:20260424T051906
CREATED:20230828T145650Z
LAST-MODIFIED:20230828T145650Z
UID:10001337-1703267100-1703274300@www.dizy.fr
SUMMARY:Zumba - USD Section Kuduro Fit Zumba
DESCRIPTION:
URL:https://www.dizy.fr/evenement/zumba-usd-section-kuduro-fit-zumba/2023-12-22/
LOCATION:Salle omnisports\, 51 rue de la Briquèterie\, DIZY\, Sélectionner un État :\, 51530\, France
CATEGORIES:Agenda
END:VEVENT
BEGIN:VEVENT
DTSTART;TZID=Europe/Paris:20231219T173000
DTEND;TZID=Europe/Paris:20231219T193000
DTSTAMP:20260424T051906
CREATED:20230828T145414Z
LAST-MODIFIED:20230828T145414Z
UID:10001293-1703007000-1703014200@www.dizy.fr
SUMMARY:Kuduro Fit - USD Section Kuduro Fit Zumba
DESCRIPTION:
URL:https://www.dizy.fr/evenement/kuduro-fit-usd-section-kuduro-fit-zumba/2023-12-19/
LOCATION:Salle omnisports\, 51 rue de la Briquèterie\, DIZY\, Sélectionner un État :\, 51530\, France
CATEGORIES:Agenda
END:VEVENT
BEGIN:VEVENT
DTSTART;TZID=Europe/Paris:20231215T174500
DTEND;TZID=Europe/Paris:20231215T194500
DTSTAMP:20260424T051906
CREATED:20230828T145650Z
LAST-MODIFIED:20230828T145650Z
UID:10001336-1702662300-1702669500@www.dizy.fr
SUMMARY:Zumba - USD Section Kuduro Fit Zumba
DESCRIPTION:
URL:https://www.dizy.fr/evenement/zumba-usd-section-kuduro-fit-zumba/2023-12-15/
LOCATION:Salle omnisports\, 51 rue de la Briquèterie\, DIZY\, Sélectionner un État :\, 51530\, France
CATEGORIES:Agenda
END:VEVENT
BEGIN:VEVENT
DTSTART;TZID=Europe/Paris:20231212T173000
DTEND;TZID=Europe/Paris:20231212T193000
DTSTAMP:20260424T051906
CREATED:20230828T145414Z
LAST-MODIFIED:20230828T145414Z
UID:10001292-1702402200-1702409400@www.dizy.fr
SUMMARY:Kuduro Fit - USD Section Kuduro Fit Zumba
DESCRIPTION:
URL:https://www.dizy.fr/evenement/kuduro-fit-usd-section-kuduro-fit-zumba/2023-12-12/
LOCATION:Salle omnisports\, 51 rue de la Briquèterie\, DIZY\, Sélectionner un État :\, 51530\, France
CATEGORIES:Agenda
END:VEVENT
BEGIN:VEVENT
DTSTART;TZID=Europe/Paris:20231208T174500
DTEND;TZID=Europe/Paris:20231208T194500
DTSTAMP:20260424T051906
CREATED:20230828T145650Z
LAST-MODIFIED:20230828T145650Z
UID:10001335-1702057500-1702064700@www.dizy.fr
SUMMARY:Zumba - USD Section Kuduro Fit Zumba
DESCRIPTION:
URL:https://www.dizy.fr/evenement/zumba-usd-section-kuduro-fit-zumba/2023-12-08/
LOCATION:Salle omnisports\, 51 rue de la Briquèterie\, DIZY\, Sélectionner un État :\, 51530\, France
CATEGORIES:Agenda
END:VEVENT
BEGIN:VEVENT
DTSTART;TZID=Europe/Paris:20231205T173000
DTEND;TZID=Europe/Paris:20231205T193000
DTSTAMP:20260424T051906
CREATED:20230828T145414Z
LAST-MODIFIED:20230828T145414Z
UID:10001291-1701797400-1701804600@www.dizy.fr
SUMMARY:Kuduro Fit - USD Section Kuduro Fit Zumba
DESCRIPTION:
URL:https://www.dizy.fr/evenement/kuduro-fit-usd-section-kuduro-fit-zumba/2023-12-05/
LOCATION:Salle omnisports\, 51 rue de la Briquèterie\, DIZY\, Sélectionner un État :\, 51530\, France
CATEGORIES:Agenda
END:VEVENT
BEGIN:VEVENT
DTSTART;TZID=Europe/Paris:20231201T174500
DTEND;TZID=Europe/Paris:20231201T194500
DTSTAMP:20260424T051906
CREATED:20230828T145650Z
LAST-MODIFIED:20230828T145650Z
UID:10001334-1701452700-1701459900@www.dizy.fr
SUMMARY:Zumba - USD Section Kuduro Fit Zumba
DESCRIPTION:
URL:https://www.dizy.fr/evenement/zumba-usd-section-kuduro-fit-zumba/2023-12-01/
LOCATION:Salle omnisports\, 51 rue de la Briquèterie\, DIZY\, Sélectionner un État :\, 51530\, France
CATEGORIES:Agenda
END:VEVENT
BEGIN:VEVENT
DTSTART;TZID=Europe/Paris:20231128T173000
DTEND;TZID=Europe/Paris:20231128T193000
DTSTAMP:20260424T051906
CREATED:20230828T145414Z
LAST-MODIFIED:20230828T145414Z
UID:10001290-1701192600-1701199800@www.dizy.fr
SUMMARY:Kuduro Fit - USD Section Kuduro Fit Zumba
DESCRIPTION:
URL:https://www.dizy.fr/evenement/kuduro-fit-usd-section-kuduro-fit-zumba/2023-11-28/
LOCATION:Salle omnisports\, 51 rue de la Briquèterie\, DIZY\, Sélectionner un État :\, 51530\, France
CATEGORIES:Agenda
END:VEVENT
BEGIN:VEVENT
DTSTART;TZID=Europe/Paris:20231124T174500
DTEND;TZID=Europe/Paris:20231124T194500
DTSTAMP:20260424T051906
CREATED:20230828T145650Z
LAST-MODIFIED:20230828T145650Z
UID:10001333-1700847900-1700855100@www.dizy.fr
SUMMARY:Zumba - USD Section Kuduro Fit Zumba
DESCRIPTION:
URL:https://www.dizy.fr/evenement/zumba-usd-section-kuduro-fit-zumba/2023-11-24/
LOCATION:Salle omnisports\, 51 rue de la Briquèterie\, DIZY\, Sélectionner un État :\, 51530\, France
CATEGORIES:Agenda
END:VEVENT
BEGIN:VEVENT
DTSTART;TZID=Europe/Paris:20231121T173000
DTEND;TZID=Europe/Paris:20231121T193000
DTSTAMP:20260424T051906
CREATED:20230828T145414Z
LAST-MODIFIED:20230828T145414Z
UID:10001289-1700587800-1700595000@www.dizy.fr
SUMMARY:Kuduro Fit - USD Section Kuduro Fit Zumba
DESCRIPTION:
URL:https://www.dizy.fr/evenement/kuduro-fit-usd-section-kuduro-fit-zumba/2023-11-21/
LOCATION:Salle omnisports\, 51 rue de la Briquèterie\, DIZY\, Sélectionner un État :\, 51530\, France
CATEGORIES:Agenda
END:VEVENT
END:VCALENDAR