BEGIN:VCALENDAR
VERSION:2.0
PRODID:-//Dizy - Porte du Vignoble - ECPv6.0.13.1//NONSGML v1.0//EN
CALSCALE:GREGORIAN
METHOD:PUBLISH
X-WR-CALNAME:Dizy - Porte du Vignoble
X-ORIGINAL-URL:https://www.dizy.fr
X-WR-CALDESC:évènements pour Dizy - Porte du Vignoble
REFRESH-INTERVAL;VALUE=DURATION:PT1H
X-Robots-Tag:noindex
X-PUBLISHED-TTL:PT1H
BEGIN:VTIMEZONE
TZID:Europe/Paris
BEGIN:DAYLIGHT
TZOFFSETFROM:+0100
TZOFFSETTO:+0200
TZNAME:CEST
DTSTART:20230326T010000
END:DAYLIGHT
BEGIN:STANDARD
TZOFFSETFROM:+0200
TZOFFSETTO:+0100
TZNAME:CET
DTSTART:20231029T010000
END:STANDARD
BEGIN:DAYLIGHT
TZOFFSETFROM:+0100
TZOFFSETTO:+0200
TZNAME:CEST
DTSTART:20240331T010000
END:DAYLIGHT
BEGIN:STANDARD
TZOFFSETFROM:+0200
TZOFFSETTO:+0100
TZNAME:CET
DTSTART:20241027T010000
END:STANDARD
BEGIN:DAYLIGHT
TZOFFSETFROM:+0100
TZOFFSETTO:+0200
TZNAME:CEST
DTSTART:20250330T010000
END:DAYLIGHT
BEGIN:STANDARD
TZOFFSETFROM:+0200
TZOFFSETTO:+0100
TZNAME:CET
DTSTART:20251026T010000
END:STANDARD
END:VTIMEZONE
BEGIN:VEVENT
DTSTART;VALUE=DATE:20250414
DTEND;VALUE=DATE:20250415
DTSTAMP:20260423T210602
CREATED:20250411T122824Z
LAST-MODIFIED:20250616T125113Z
UID:10001742-1744588800-1744675199@www.dizy.fr
SUMMARY:Passage de la balayeuse
DESCRIPTION:Merci d’oter votre véhicule avant le passage de la balayeuse afin de faciliter le nettoyage de la chaussée.
URL:https://www.dizy.fr/evenement/passage-de-la-balayeuse-2/2025-04-14/
LOCATION:Dizy
ORGANIZER;CN="Mairie":MAILTO:contact@ville-dizy.fr
END:VEVENT
BEGIN:VEVENT
DTSTART;VALUE=DATE:20250407
DTEND;VALUE=DATE:20250409
DTSTAMP:20260423T210602
CREATED:20250404T131236Z
LAST-MODIFIED:20250404T131236Z
UID:10001740-1743984000-1744156799@www.dizy.fr
SUMMARY:Passage de la balayeuse
DESCRIPTION:La société BRM procèdera au balayage des rues et axes de circulation sur la commune de Dizy. Merci de retirer vos véhicules pour faciliter l’accès à la voirie de la balayeuse.
URL:https://www.dizy.fr/evenement/passage-de-la-balayeuse/
LOCATION:Dizy
CATEGORIES:Agenda
ORGANIZER;CN="Mairie":MAILTO:contact@ville-dizy.fr
END:VEVENT
BEGIN:VEVENT
DTSTART;TZID=Europe/Paris:20250401T183000
DTEND;TZID=Europe/Paris:20250401T213000
DTSTAMP:20260423T210602
CREATED:20250512T070653Z
LAST-MODIFIED:20250512T070653Z
UID:10001745-1743532200-1743543000@www.dizy.fr
SUMMARY:Séance du conseil municipal
DESCRIPTION:Retrouver l’ordre du jour en cliquant ici
URL:https://www.dizy.fr/evenement/seance-du-conseil-municipal-8/
LOCATION:Salle du conseil\, 276\, rue du colonel Fabien\, Dizy\, Sélectionner un État :\, 51530\, France
CATEGORIES:Agenda
ORGANIZER;CN="Mairie":MAILTO:contact@ville-dizy.fr
END:VEVENT
BEGIN:VEVENT
DTSTART;TZID=Europe/Paris:20250401T183000
DTEND;TZID=Europe/Paris:20250401T213000
DTSTAMP:20260423T210602
CREATED:20250324T132016Z
LAST-MODIFIED:20250324T132016Z
UID:10001737-1743532200-1743543000@www.dizy.fr
SUMMARY:Séance du conseil municipal
DESCRIPTION:Retrouver l’ordre du jour en cliquant ici
URL:https://www.dizy.fr/evenement/seance-du-conseil-municipal-7/
LOCATION:Salle du conseil\, 276\, rue du colonel Fabien\, Dizy\, Sélectionner un État :\, 51530\, France
CATEGORIES:Agenda
ORGANIZER;CN="Mairie":MAILTO:contact@ville-dizy.fr
END:VEVENT
BEGIN:VEVENT
DTSTART;VALUE=DATE:20250401
DTEND;VALUE=DATE:20250516
DTSTAMP:20260423T210602
CREATED:20250328T073649Z
LAST-MODIFIED:20250328T073649Z
UID:10001739-1743465600-1747353599@www.dizy.fr
SUMMARY:Inscription au concours communal de fleurissement
DESCRIPTION:Inscrivez-vous au concours communal de fleurissement 2025 du 1er avril au 15 mai 2025 \nPour s’inscrire : \n1 : télécharger le formulaire suivant : 250312-AB-DVF-FlyerFleurissement \n2 : déposer le formulaire rempli dans la boîte aux lettres de la Maison des associations de Dizy \nou envoyez-le par mail : contact@ville-dizy.fr \n 
URL:https://www.dizy.fr/evenement/inscription-au-concours-communal-de-fleurissement/
LOCATION:Maison des associations\, 261\, rue du Vieux Château\, Dizy\, 51530\, France
CATEGORIES:Agenda
ORGANIZER;CN="Mairie":MAILTO:contact@ville-dizy.fr
END:VEVENT
BEGIN:VEVENT
DTSTART;VALUE=DATE:20250313
DTEND;VALUE=DATE:20250322
DTSTAMP:20260423T210602
CREATED:20250310T075345Z
LAST-MODIFIED:20250310T075345Z
UID:10001734-1741824000-1742601599@www.dizy.fr
SUMMARY:Inscriptions à l'accueil de loisirs de printemps
DESCRIPTION:Inscriptions à l’accueil de loisirs de printemps – Dizy – Porte du Vignoble
URL:https://www.dizy.fr/evenement/inscriptions-a-laccueil-de-loisirs-de-printemps/
LOCATION:Mairie\, 276\, rue du colonel Fabien\, Dizy\, Sélectionner un État :\, 51530\, France
CATEGORIES:Agenda
ORGANIZER;CN="Mairie":MAILTO:contact@ville-dizy.fr
END:VEVENT
BEGIN:VEVENT
DTSTART;VALUE=DATE:20250224
DTEND;VALUE=DATE:20250315
DTSTAMP:20260423T210602
CREATED:20250205T085435Z
LAST-MODIFIED:20250205T085826Z
UID:10001729-1740355200-1741996799@www.dizy.fr
SUMMARY:[Enfance] : Inscription en mairie du 24 février au 14 mars 2025
DESCRIPTION:La mairie ouvre la période des inscriptions scolaires aux école maternelle et élémentaire de Dizy pour la rentrée 2025-2026 en deux étapes : inscription à la mairie puis rendez-vous à l’école maternelle. \n1: Inscription en mairie du lundi 24 février au  vendredi 14 mars 2025 \nEnfants concernés : \n\nentrée en école maternelle pour les enfants nés entre le 1er janvier et le 31 décembre 2022\nentrée en CP\ntous les enfants âgés de plus de 3 ans nouvellement arrivés à Dizy\n\nPour s’inscrire\, il est obligatoire d’apporter les pièces justificatives suivantes : \n\nle livret de famille\nle carnet de santé de l’enfant\nun justificatif de domicile de chaque parent de moins de 3 mois\nles cartes d’identité de chaque parent.\nla fiche d’inscription dûment remplie.\n\nL’inscription faite\, la mairie remettra aux parents la fiche d’inscription pour les écoles. \n2 : Rendez-vous avec la directrice de l’école maternelle au 03 26 55 32 00 \nMadame Bontempelli\, directrice de l’école maternelle\, rencontrera les parents des enfants entrant à l’école maternelle\, sur rendez-vous préalable\, les mardis 18 mars et 22 avril 2025. \nDocuments à apporter : \n\nla fiche d’inscription remise par la mairie\nle carnet de santé de l’enfant.
URL:https://www.dizy.fr/evenement/enfance-inscription-en-mairie-du-24-fevrier-au-14-mars-2025/
LOCATION:Mairie\, 276\, rue du colonel Fabien\, Dizy\, Sélectionner un État :\, 51530\, France
ORGANIZER;CN="Mairie":MAILTO:contact@ville-dizy.fr
END:VEVENT
BEGIN:VEVENT
DTSTART;VALUE=DATE:20250203
DTEND;VALUE=DATE:20250222
DTSTAMP:20260423T210602
CREATED:20250203T075313Z
LAST-MODIFIED:20250203T075313Z
UID:10001728-1738540800-1740182399@www.dizy.fr
SUMMARY:Elagage des arbres
DESCRIPTION:Interdiction temporaire de stationnement sur l’avenue du général Leclerc : travaux d’élagage des arbres  \nDans le cadre des travaux d’élagage des arbres effectués par l’entreprise JEV\, et afin d’assurer la sécurité des usagers ainsi que le bon déroulement des interventions\, \nil est décidé ce qui suit : \nLe stationnement de tous les véhicules sera interdit sur l’avenue du Général Leclerc du 3 février au 21 février 2025 sauf les samedis et dimanches. \nTout véhicule en infraction pourra être enlevé aux frais de son propriétaire conformément à la réglementation en vigueur. \nMerci de votre compréhension. \nARRETE-1-2025-15
URL:https://www.dizy.fr/evenement/elagage-des-arbres/
LOCATION:Avenue du général Leclerc\, Avenue du général Leclerc\, Dizy\, 51530\, France
CATEGORIES:Voirie
ORGANIZER;CN="Mairie":MAILTO:contact@ville-dizy.fr
END:VEVENT
BEGIN:VEVENT
DTSTART;TZID=Europe/Paris:20241217T183000
DTEND;TZID=Europe/Paris:20241217T213000
DTSTAMP:20260423T210602
CREATED:20241210T082747Z
LAST-MODIFIED:20241210T082814Z
UID:10001726-1734460200-1734471000@www.dizy.fr
SUMMARY:Séance du conseil municipal
DESCRIPTION:Retrouver l’ordre du jour en cliquant ici
URL:https://www.dizy.fr/evenement/seance-du-conseil-municipal-6/
LOCATION:Salle du conseil\, 276\, rue du colonel Fabien\, Dizy\, Sélectionner un État :\, 51530\, France
CATEGORIES:Agenda
ORGANIZER;CN="Mairie":MAILTO:contact@ville-dizy.fr
END:VEVENT
BEGIN:VEVENT
DTSTART;VALUE=DATE:20241205
DTEND;VALUE=DATE:20241206
DTSTAMP:20260423T210602
CREATED:20241114T151052Z
LAST-MODIFIED:20241114T151052Z
UID:10001725-1733356800-1733443199@www.dizy.fr
SUMMARY:Fermeture de la médiathèque
DESCRIPTION:La médiathèque sera exceptionnellement fermée jeudi 5 décembre 2024 pour cause d’inventaire. \n 
URL:https://www.dizy.fr/evenement/7538/
LOCATION:Médiathèque\, 261\, rue du Vieux Château\, Dizy\, 51530\, France
CATEGORIES:Agenda
ORGANIZER;CN="Mairie":MAILTO:contact@ville-dizy.fr
END:VEVENT
BEGIN:VEVENT
DTSTART;TZID=Europe/Paris:20241112T183000
DTEND;TZID=Europe/Paris:20241112T213000
DTSTAMP:20260423T210602
CREATED:20241105T144419Z
LAST-MODIFIED:20241105T144419Z
UID:10001718-1731436200-1731447000@www.dizy.fr
SUMMARY:Séance du conseil municipal
DESCRIPTION:Retrouver l’ordre du jour en cliquant ici
URL:https://www.dizy.fr/evenement/seance-du-conseil-municipal-5/
LOCATION:Salle du conseil\, 276\, rue du colonel Fabien\, Dizy\, Sélectionner un État :\, 51530\, France
CATEGORIES:Agenda
ORGANIZER;CN="Mairie":MAILTO:contact@ville-dizy.fr
END:VEVENT
BEGIN:VEVENT
DTSTART;TZID=Europe/Paris:20241111T094500
DTEND;TZID=Europe/Paris:20241111T113000
DTSTAMP:20260423T210602
CREATED:20241029T100123Z
LAST-MODIFIED:20241029T100123Z
UID:10001717-1731318300-1731324600@www.dizy.fr
SUMMARY:Commémoration du 11 novembre 1918
DESCRIPTION:La municipalité de Dizy convie la population lundi 11 novembre 2024 à l’occasion de la Commémoration de l’Armistice. Rassemblement à 9h45 devant l’école élémentaire. \n 
URL:https://www.dizy.fr/evenement/commemoration-du-11-novembre-1918/
LOCATION:Monument aux Morts\, Rue de Reims\, DIZY\, 51530\, France
CATEGORIES:Agenda
ORGANIZER;CN="Mairie":MAILTO:contact@ville-dizy.fr
END:VEVENT
BEGIN:VEVENT
DTSTART;TZID=Europe/Paris:20241005T083000
DTEND;TZID=Europe/Paris:20241005T133000
DTSTAMP:20260423T210602
CREATED:20240909T131718Z
LAST-MODIFIED:20240909T132026Z
UID:10001714-1728117000-1728135000@www.dizy.fr
SUMMARY:Opération Villages et coteaux propres
DESCRIPTION:Créée en 2014\, « Villages et coteaux propres » invite\, chaque premier samedi d’octobre\, des volontaires de tous âges à participer activement à la protection de l’environnement. Cette initiative consiste à nettoyer les coteaux et villages viticoles champenois\, souvent souillés par des déchets abandonnés. \nFort de son succès chaque année\, l’événement est soutenu par le Comité Champagne\, la Mission Coteaux\, Maisons et Caves de Champagne et le Parc Naturel Régional de la montagne de Reims\, qui souhaitent le pérenniser et l’étendre à l’ensemble des communes AOC Champagne. \nLes communes participantes recevront à la suite un kit de plantation en partenariat avec la Coopérative du Syndicat général des Vignerons\, comprenant 75 arbres et arbustes\, pour enrichir encore davantage le paysage local. \nUn défi renouvelé tous les ans\, avec toujours une bonne mobilisation des participants. Une action de solidarité récompensée pour les bénévoles des communes de Dizy\, Champillon et Hautvillers. \nRendez-vous samedi 5 octobre 2024 à 8h30\, Route de la Folie (près du vendangeoir Lanson) à Dizy.
URL:https://www.dizy.fr/evenement/7271/
LOCATION:Route de la Folie\, Route de la Folie\, Dizy\, 51530\, France
ORGANIZER;CN="Mairie":MAILTO:contact@ville-dizy.fr
END:VEVENT
BEGIN:VEVENT
DTSTART;VALUE=DATE:20240911
DTEND;VALUE=DATE:20240912
DTSTAMP:20260423T210602
CREATED:20240826T063851Z
LAST-MODIFIED:20240826T063852Z
UID:10001587-1726012800-1726099199@www.dizy.fr
SUMMARY:Passage de la balayeuse
DESCRIPTION:La société BRM procèdera au balayage des rues et axes de circulation sur la commune de Dizy. Merci de retirer vos véhicules pour faciliter l’accès à la voirie de la balayeuse.
URL:https://www.dizy.fr/evenement/6207-3/
LOCATION:Dizy
CATEGORIES:Agenda
ORGANIZER;CN="Mairie":MAILTO:contact@ville-dizy.fr
END:VEVENT
BEGIN:VEVENT
DTSTART;TZID=Europe/Paris:20240726T183000
DTEND;TZID=Europe/Paris:20240726T220000
DTSTAMP:20260423T210602
CREATED:20240527T131444Z
LAST-MODIFIED:20240527T133233Z
UID:10001686-1722018600-1722031200@www.dizy.fr
SUMMARY:Apéritif DIZY Noct'EnBulles
DESCRIPTION:Venez célébrer le début du weekend avec les apéritifs DIZY Noct’EnBulles. Rejoignez-nous le vendredi 26 juillet 2024 de 18h30 à 22h sur la Place du Vieux Château à Dizy ou à la salle des fêtes (si intempéries)\, pour un moment convivial. \nAu programme : \nBar à champagne éphémère : Champagne Charbonnier Père et Fils. \nRestauration rapide : Association Champagne K’Danse. Vente directe de 18h30 à 21h30. Pré-réservations au 06 78 91 78 22 \nAmbiance musicale : The Ludes \nThe Ludes \, c’est un trio rock anglophone issu de la nouvelle scène Parisienne. Ces trois garçons développent ensemble une énergie électrique variant les plaisirs en mélangeant la folk\, le rock\, la pop et des humeurs rockab’…Un univers puisé dans leurs nombreuses références (Beatles\, Black Crowes\, Jack white)\, qui s’impose avec une voix singulière en composant des mélodies simples et entêtantes.
URL:https://www.dizy.fr/evenement/aperitif-dizy-noctenbulles-3-2/
LOCATION:Place du Vieux Château – 51530 Dizy\, Place du Vieux Château\, Dizy\, 51530\, France
CATEGORIES:Agenda
ORGANIZER;CN="Mairie":MAILTO:contact@ville-dizy.fr
END:VEVENT
BEGIN:VEVENT
DTSTART;VALUE=DATE:20240724
DTEND;VALUE=DATE:20240725
DTSTAMP:20260423T210602
CREATED:20240617T072552Z
LAST-MODIFIED:20250717T142257Z
UID:10001585-1721779200-1721865599@www.dizy.fr
SUMMARY:Passage de la balayeuse
DESCRIPTION:La société BRM procèdera au balayage des rues et axes de circulation sur la commune de Dizy. Merci de retirer vos véhicules pour faciliter l’accès à la voirie de la balayeuse.
URL:https://www.dizy.fr/evenement/6207-2/
LOCATION:Dizy
CATEGORIES:Agenda
ORGANIZER;CN="Mairie":MAILTO:contact@ville-dizy.fr
END:VEVENT
BEGIN:VEVENT
DTSTART;TZID=Europe/Paris:20240714T104500
DTEND;TZID=Europe/Paris:20240714T113000
DTSTAMP:20260423T210602
CREATED:20240708T084006Z
LAST-MODIFIED:20240708T084027Z
UID:10001711-1720953900-1720956600@www.dizy.fr
SUMMARY:Apéritif Citoyen
DESCRIPTION:Le conseil municipal a l’honneur de vous convier à l’apéritif citoyen dimanche 14 juillet 2024 à 10h45 sur la Place du Vieux Château\, Dizy\, à 10h45 pour célébrer la Fête nationale autour d’un apéritif citoyen. \n 
URL:https://www.dizy.fr/evenement/aperitif-citoyen/
LOCATION:Place du Vieux Château – 51530 Dizy\, Place du Vieux Château\, Dizy\, 51530\, France
CATEGORIES:Agenda
ORGANIZER;CN="Mairie":MAILTO:contact@ville-dizy.fr
END:VEVENT
BEGIN:VEVENT
DTSTART;TZID=Europe/Paris:20240705T183000
DTEND;TZID=Europe/Paris:20240705T220000
DTSTAMP:20260423T210602
CREATED:20240527T131750Z
LAST-MODIFIED:20240527T133241Z
UID:10001687-1720204200-1720216800@www.dizy.fr
SUMMARY:Apéritif DIZY Noct'EnBulles
DESCRIPTION:Venez célébrer le début du weekend avec les apéritifs DIZY Noct’EnBulles. Rejoignez-nous le vendredi 5 juillet 2024 de 18h30 à 22h sur la Place du Vieux Château à Dizy ou à la omnisports (si intempéries)\, pour un moment convivial. \nAu programme: \nBar à champagne éphémère : Champagne Bourdelois. \nRestauration rapide : Association Joie de Vivre. Vente directe de 18h30 à 21h30. Pré-réservations au 06 25 45 07 72 ou à la mairie (276\, rue du colonel Fabien). \nAmbiance musicale: Celtic Sailors \nCeltic Sailors est un groupe français né en 2004 et basé en région parisienne (Seine-et-Marne). Le groupe joue de la musique celtique traditionnelle de façon très originale et des compositions et arrangements dans le même style. Il propose également son spectacle avec danseuses et projections vidéo. Le groupe fait plus de 500 concerts dans toute la France. \nDans le cadre des mesures nationales Urgence attentat\, un dispositif de sécurité sera mis en place lors de cet événement.
URL:https://www.dizy.fr/evenement/aperitif-dizy-noctenbulles-4/
LOCATION:Place du Vieux Château – 51530 Dizy\, Place du Vieux Château\, Dizy\, 51530\, France
CATEGORIES:Agenda
ORGANIZER;CN="Mairie":MAILTO:contact@ville-dizy.fr
END:VEVENT
BEGIN:VEVENT
DTSTART;TZID=Europe/Paris:20240612T143000
DTEND;TZID=Europe/Paris:20240612T163000
DTSTAMP:20260423T210602
CREATED:20240527T065350Z
LAST-MODIFIED:20240527T065350Z
UID:10001682-1718202600-1718209800@www.dizy.fr
SUMMARY:Réunion d’information citoyenneté et défense pour les jeunes
DESCRIPTION:Une réunion d’information sur la citoyenneté et la défense se tiendra mercredi 12 juin 2024 de 14h30 à 16h30 à la Maison des associations\, 261 rue du Vieux Château à Dizy\, salle Cerisières. Cette séance s’adresse aux jeunes et vise à présenter les enjeux de la journée Défense et Citoyenneté (JDC).
URL:https://www.dizy.fr/evenement/reunion-dinformation-citoyennete-et-defense-pour-les-jeunes-2/
LOCATION:Salle Les Cerisières\, 261\, rue du Vieux Château\, Dizy\, 51530\, France
ORGANIZER;CN="Mairie":MAILTO:contact@ville-dizy.fr
END:VEVENT
BEGIN:VEVENT
DTSTART;TZID=Europe/Paris:20240609T080000
DTEND;TZID=Europe/Paris:20240609T180000
DTSTAMP:20260423T210602
CREATED:20240306T132048Z
LAST-MODIFIED:20240603T122147Z
UID:10001690-1717920000-1717956000@www.dizy.fr
SUMMARY:Elections européennes
DESCRIPTION:
URL:https://www.dizy.fr/evenement/elections-europeennes-2/
LOCATION:Salle des fêtes\, 284\, rue du Vieux Château\, Dizy\, 51530\, France
CATEGORIES:Agenda
ORGANIZER;CN="Mairie":MAILTO:contact@ville-dizy.fr
END:VEVENT
BEGIN:VEVENT
DTSTART;TZID=Europe/Paris:20240608T090000
DTEND;TZID=Europe/Paris:20240608T123000
DTSTAMP:20260423T210602
CREATED:20240522T130256Z
LAST-MODIFIED:20240522T130354Z
UID:10001679-1717837200-1717849800@www.dizy.fr
SUMMARY:Matinée Portes ouvertes à la Crèche municipale Les Canaillous
DESCRIPTION:La crèche municipale Les Canaillous vous ouvre ses portes le samedi 8 juin 2024 de 9h00 à 12h30. \nVenez découvrir les installations et rencontrer une équipe de professionnels de la petite enfance dévouée au 76 rue Paul Fort. \nUne occasion idéale pour les parents et/ou futurs parents de s’informer et d’échanger sur les services proposés pour le bien-être et l’épanouissement de leurs enfants. \nNous vous attendons nombreux. \n  \nRenseignements : 03 26 51 56 12
URL:https://www.dizy.fr/evenement/matinee-portes-ouvertes-a-la-creche-municipale-les-canaillous/
LOCATION:Crèche municipale Les Canaillous\, 76\, rue Paul Fort\, Dizy\, Sélectionner un État :\, 51530\, France
CATEGORIES:creche
ORGANIZER;CN="Mairie":MAILTO:contact@ville-dizy.fr
END:VEVENT
BEGIN:VEVENT
DTSTART;TZID=Europe/Paris:20240607T183000
DTEND;TZID=Europe/Paris:20240607T220000
DTSTAMP:20260423T210602
CREATED:20240524T131016Z
LAST-MODIFIED:20240527T133219Z
UID:10001684-1717785000-1717797600@www.dizy.fr
SUMMARY:Apéritif DIZY Noct'EnBulles
DESCRIPTION:Venez célébrer le début du weekend avec les apéritifs DIZY Noct’EnBulles. Rejoignez-nous le vendredi 7 juin 2024 de 18h30 à 22h sur la Place du Vieux Château à Dizy ou à la salle omnisports (si intempéries)\, pour un moment convivial. \nAu programme : \nUn bar à champagne éphémère proposée par le Champagne Bliard Père et Fils. Vente directe de 18h30 à 21h30. \nUne restauration rapide proposée par l’Amicale du personnel communal. Vente directe de 18h30 à 21h30. Pré-réservations au 03 26 55 27 63 ou à la mairie (276\, rue du colonel Fabien). \nUne ambiance musicale pour vous faire vibrer avec Joël Rémy de 18h30 à 22h. \nJoël Rémy est un musicien saxophoniste au registre jazz -électro. \nDans le cadre des mesures nationales Urgence attentat\, un dispositif de sécurité sera mis en place lors de cet événement.
URL:https://www.dizy.fr/evenement/aperitif-dizy-noctenbulles-2/
LOCATION:Place du Vieux Château – 51530 Dizy\, Place du Vieux Château\, Dizy\, 51530\, France
CATEGORIES:Agenda
ORGANIZER;CN="Mairie":MAILTO:contact@ville-dizy.fr
END:VEVENT
BEGIN:VEVENT
DTSTART;TZID=Europe/Paris:20240503T183000
DTEND;TZID=Europe/Paris:20240503T220000
DTSTAMP:20260423T210602
CREATED:20240415T142446Z
LAST-MODIFIED:20240426T162735Z
UID:10001667-1714761000-1714773600@www.dizy.fr
SUMMARY:Apéritif DIZY Noct'EnBulles
DESCRIPTION:Venez célébrer le début du week-end avec les apéritifs DIZY Noct’EnBulles. Rejoignez-nous le vendredi 3 mai de 18h30 à 22h sur la Place du Vieux Château à Dizy ou à la salle des fêtes (si intempéries)\, pour un moment convivial.
URL:https://www.dizy.fr/evenement/aperitif-dizy-noctenbulles/
LOCATION:Place du Vieux Château – 51530 Dizy\, Place du Vieux Château\, Dizy\, 51530\, France
ORGANIZER;CN="Mairie":MAILTO:contact@ville-dizy.fr
END:VEVENT
BEGIN:VEVENT
DTSTART;VALUE=DATE:20240318
DTEND;VALUE=DATE:20240410
DTSTAMP:20260423T210602
CREATED:20240315T140555Z
LAST-MODIFIED:20240322T140722Z
UID:10001665-1710720000-1712707199@www.dizy.fr
SUMMARY:Inscriptions scolaires 2024-2025
DESCRIPTION:Les inscriptions scolaires sont ouvertes du 18 mars au 9 avril 2024 inclus à la mairie de Dizy.
URL:https://www.dizy.fr/evenement/inscriptions-scolaires-2024-2025/
LOCATION:Mairie\, 276\, rue du colonel Fabien\, Dizy\, Sélectionner un État :\, 51530\, France
CATEGORIES:Agenda
ORGANIZER;CN="Mairie":MAILTO:contact@ville-dizy.fr
END:VEVENT
BEGIN:VEVENT
DTSTART;TZID=Europe/Paris:20240220T183000
DTEND;TZID=Europe/Paris:20240220T213000
DTSTAMP:20260423T210602
CREATED:20230928T141007Z
LAST-MODIFIED:20240214T135206Z
UID:10001513-1708453800-1708464600@www.dizy.fr
SUMMARY:Séance du Conseil municipal
DESCRIPTION:Retrouver l’ordre du jour en cliquant ici
URL:https://www.dizy.fr/evenement/seance-du-conseil-municipal/
LOCATION:Salle du conseil\, 276\, rue du colonel Fabien\, Dizy\, Sélectionner un État :\, 51530\, France
CATEGORIES:Agenda
ORGANIZER;CN="Mairie":MAILTO:contact@ville-dizy.fr
END:VEVENT
BEGIN:VEVENT
DTSTART;VALUE=DATE:20240214
DTEND;VALUE=DATE:20240215
DTSTAMP:20260423T210602
CREATED:20240116T102858Z
LAST-MODIFIED:20241125T152358Z
UID:10001581-1707868800-1707955199@www.dizy.fr
SUMMARY:Passage de la balayeuse
DESCRIPTION:La société BRM procèdera au balayage des rues et axes de circulation sur la commune de Dizy. Merci de retirer vos véhicules pour faciliter l’accès à la voirie de la balayeuse.
URL:https://www.dizy.fr/evenement/6207/
LOCATION:Dizy
CATEGORIES:Agenda
ORGANIZER;CN="Mairie":MAILTO:contact@ville-dizy.fr
END:VEVENT
BEGIN:VEVENT
DTSTART;VALUE=DATE:20240201
DTEND;VALUE=DATE:20240202
DTSTAMP:20260423T210602
CREATED:20240129T073746Z
LAST-MODIFIED:20240129T073857Z
UID:10001596-1706745600-1706831999@www.dizy.fr
SUMMARY:Mise en place d'un service minimum d'acceuil jeudi 1er février 2024
DESCRIPTION:En raison de la grève des personnels de l’Eudcation nationale\, la mairie met en place un service minimum d’accueil jeudi 1er février 2024 uniquement sur le temps scolaire pour tous les élèves des écoles maternelle et élémentaire. \nIl n’y aura pas de garderie entre 7h30 et 8h30 puis entre 16h et 18h30.
URL:https://www.dizy.fr/evenement/mise-en-place-dun-service-minimum-dacceuil-jeudi-1er-fevrier-2024/
LOCATION:Services périscolaires\, Rue du Vieux Château\, Dizy\, Sélectionner un État :\, 51530\, France
CATEGORIES:Agenda
ORGANIZER;CN="Mairie":MAILTO:contact@ville-dizy.fr
END:VEVENT
BEGIN:VEVENT
DTSTART;TZID=Europe/Paris:20240109T183000
DTEND;TZID=Europe/Paris:20240109T213000
DTSTAMP:20260423T210602
CREATED:20240102T134824Z
LAST-MODIFIED:20240214T135053Z
UID:10001662-1704825000-1704835800@www.dizy.fr
SUMMARY:Séance du conseil municipal
DESCRIPTION:Retrouver l’ordre du jour en cliquant ici
URL:https://www.dizy.fr/evenement/seance-du-conseil-municipal-4/
LOCATION:Salle du conseil\, 276\, rue du colonel Fabien\, Dizy\, Sélectionner un État :\, 51530\, France
CATEGORIES:Agenda
ORGANIZER;CN="Mairie":MAILTO:contact@ville-dizy.fr
END:VEVENT
BEGIN:VEVENT
DTSTART;TZID=Europe/Paris:20240104T183000
DTEND;TZID=Europe/Paris:20240104T203000
DTSTAMP:20260423T210602
CREATED:20231218T095030Z
LAST-MODIFIED:20231218T095651Z
UID:10001578-1704393000-1704400200@www.dizy.fr
SUMMARY:Voeux du Maire
DESCRIPTION:https://www.dizy.fr/wp-content/uploads/2023/12/231218-AB-VoeuxMaireCVN24.mp4
URL:https://www.dizy.fr/evenement/voeux-du-maire-2/
LOCATION:Salle des fêtes\, 284\, rue du Vieux Château\, Dizy\, 51530\, France
ORGANIZER;CN="Mairie":MAILTO:contact@ville-dizy.fr
END:VEVENT
BEGIN:VEVENT
DTSTART;TZID=Europe/Paris:20231212T183000
DTEND;TZID=Europe/Paris:20231212T213000
DTSTAMP:20260423T210602
CREATED:20231025T095559Z
LAST-MODIFIED:20231025T095559Z
UID:10001521-1702405800-1702416600@www.dizy.fr
SUMMARY:Séance du conseil municipal
DESCRIPTION:
URL:https://www.dizy.fr/evenement/seance-du-conseil-municipal-3/
LOCATION:Salle du conseil\, 276\, rue du colonel Fabien\, Dizy\, Sélectionner un État :\, 51530\, France
CATEGORIES:Agenda
ORGANIZER;CN="Mairie":MAILTO:contact@ville-dizy.fr
END:VEVENT
END:VCALENDAR