BEGIN:VCALENDAR
VERSION:2.0
PRODID:-//Dizy - Porte du Vignoble - ECPv6.0.13.1//NONSGML v1.0//EN
CALSCALE:GREGORIAN
METHOD:PUBLISH
X-WR-CALNAME:Dizy - Porte du Vignoble
X-ORIGINAL-URL:https://www.dizy.fr
X-WR-CALDESC:évènements pour Dizy - Porte du Vignoble
REFRESH-INTERVAL;VALUE=DURATION:PT1H
X-Robots-Tag:noindex
X-PUBLISHED-TTL:PT1H
BEGIN:VTIMEZONE
TZID:Europe/Paris
BEGIN:DAYLIGHT
TZOFFSETFROM:+0100
TZOFFSETTO:+0200
TZNAME:CEST
DTSTART:20230326T010000
END:DAYLIGHT
BEGIN:STANDARD
TZOFFSETFROM:+0200
TZOFFSETTO:+0100
TZNAME:CET
DTSTART:20231029T010000
END:STANDARD
END:VTIMEZONE
BEGIN:VEVENT
DTSTART;TZID=Europe/Paris:20231123T140000
DTEND;TZID=Europe/Paris:20231123T180000
DTSTAMP:20260424T013020
CREATED:20230828T142355Z
LAST-MODIFIED:20230828T142712Z
UID:10001241-1700748000-1700762400@www.dizy.fr
SUMMARY:Club Amitié et Solidarité
DESCRIPTION:
URL:https://www.dizy.fr/evenement/club-amitie-et-solidarite/2023-11-23/
LOCATION:Salle Les Cerisières\, 261\, rue du Vieux Château\, Dizy\, 51530\, France
CATEGORIES:Agenda
END:VEVENT
BEGIN:VEVENT
DTSTART;TZID=Europe/Paris:20231116T140000
DTEND;TZID=Europe/Paris:20231116T180000
DTSTAMP:20260424T013020
CREATED:20230828T142355Z
LAST-MODIFIED:20230828T142712Z
UID:10001240-1700143200-1700157600@www.dizy.fr
SUMMARY:Club Amitié et Solidarité
DESCRIPTION:
URL:https://www.dizy.fr/evenement/club-amitie-et-solidarite/2023-11-16/
LOCATION:Salle Les Cerisières\, 261\, rue du Vieux Château\, Dizy\, 51530\, France
CATEGORIES:Agenda
END:VEVENT
BEGIN:VEVENT
DTSTART;TZID=Europe/Paris:20231109T140000
DTEND;TZID=Europe/Paris:20231109T180000
DTSTAMP:20260424T013020
CREATED:20230828T142355Z
LAST-MODIFIED:20230828T142712Z
UID:10001239-1699538400-1699552800@www.dizy.fr
SUMMARY:Club Amitié et Solidarité
DESCRIPTION:
URL:https://www.dizy.fr/evenement/club-amitie-et-solidarite/2023-11-09/
LOCATION:Salle Les Cerisières\, 261\, rue du Vieux Château\, Dizy\, 51530\, France
CATEGORIES:Agenda
END:VEVENT
BEGIN:VEVENT
DTSTART;TZID=Europe/Paris:20231102T140000
DTEND;TZID=Europe/Paris:20231102T180000
DTSTAMP:20260424T013020
CREATED:20230828T142355Z
LAST-MODIFIED:20230828T142712Z
UID:10001238-1698933600-1698948000@www.dizy.fr
SUMMARY:Club Amitié et Solidarité
DESCRIPTION:
URL:https://www.dizy.fr/evenement/club-amitie-et-solidarite/2023-11-02/
LOCATION:Salle Les Cerisières\, 261\, rue du Vieux Château\, Dizy\, 51530\, France
CATEGORIES:Agenda
END:VEVENT
BEGIN:VEVENT
DTSTART;TZID=Europe/Paris:20231026T140000
DTEND;TZID=Europe/Paris:20231026T180000
DTSTAMP:20260424T013020
CREATED:20230828T142355Z
LAST-MODIFIED:20230828T142712Z
UID:10001237-1698328800-1698343200@www.dizy.fr
SUMMARY:Club Amitié et Solidarité
DESCRIPTION:
URL:https://www.dizy.fr/evenement/club-amitie-et-solidarite/2023-10-26/
LOCATION:Salle Les Cerisières\, 261\, rue du Vieux Château\, Dizy\, 51530\, France
CATEGORIES:Agenda
END:VEVENT
BEGIN:VEVENT
DTSTART;TZID=Europe/Paris:20231019T140000
DTEND;TZID=Europe/Paris:20231019T180000
DTSTAMP:20260424T013020
CREATED:20230828T142355Z
LAST-MODIFIED:20230828T142712Z
UID:10001236-1697724000-1697738400@www.dizy.fr
SUMMARY:Club Amitié et Solidarité
DESCRIPTION:
URL:https://www.dizy.fr/evenement/club-amitie-et-solidarite/2023-10-19/
LOCATION:Salle Les Cerisières\, 261\, rue du Vieux Château\, Dizy\, 51530\, France
CATEGORIES:Agenda
END:VEVENT
BEGIN:VEVENT
DTSTART;TZID=Europe/Paris:20231012T140000
DTEND;TZID=Europe/Paris:20231012T180000
DTSTAMP:20260424T013020
CREATED:20230828T142355Z
LAST-MODIFIED:20230828T142712Z
UID:10001235-1697119200-1697133600@www.dizy.fr
SUMMARY:Club Amitié et Solidarité
DESCRIPTION:
URL:https://www.dizy.fr/evenement/club-amitie-et-solidarite/2023-10-12/
LOCATION:Salle Les Cerisières\, 261\, rue du Vieux Château\, Dizy\, 51530\, France
CATEGORIES:Agenda
END:VEVENT
BEGIN:VEVENT
DTSTART;TZID=Europe/Paris:20231005T140000
DTEND;TZID=Europe/Paris:20231005T180000
DTSTAMP:20260424T013020
CREATED:20230828T142355Z
LAST-MODIFIED:20230828T142712Z
UID:10001234-1696514400-1696528800@www.dizy.fr
SUMMARY:Club Amitié et Solidarité
DESCRIPTION:
URL:https://www.dizy.fr/evenement/club-amitie-et-solidarite/2023-10-05/
LOCATION:Salle Les Cerisières\, 261\, rue du Vieux Château\, Dizy\, 51530\, France
CATEGORIES:Agenda
END:VEVENT
BEGIN:VEVENT
DTSTART;TZID=Europe/Paris:20230928T140000
DTEND;TZID=Europe/Paris:20230928T180000
DTSTAMP:20260424T013020
CREATED:20230828T142355Z
LAST-MODIFIED:20230828T142712Z
UID:10001233-1695909600-1695924000@www.dizy.fr
SUMMARY:Club Amitié et Solidarité
DESCRIPTION:
URL:https://www.dizy.fr/evenement/club-amitie-et-solidarite/2023-09-28/
LOCATION:Salle Les Cerisières\, 261\, rue du Vieux Château\, Dizy\, 51530\, France
CATEGORIES:Agenda
END:VEVENT
BEGIN:VEVENT
DTSTART;TZID=Europe/Paris:20230921T140000
DTEND;TZID=Europe/Paris:20230921T180000
DTSTAMP:20260424T013020
CREATED:20230828T142355Z
LAST-MODIFIED:20230828T142712Z
UID:10001232-1695304800-1695319200@www.dizy.fr
SUMMARY:Club Amitié et Solidarité
DESCRIPTION:
URL:https://www.dizy.fr/evenement/club-amitie-et-solidarite/2023-09-21/
LOCATION:Salle Les Cerisières\, 261\, rue du Vieux Château\, Dizy\, 51530\, France
CATEGORIES:Agenda
END:VEVENT
BEGIN:VEVENT
DTSTART;TZID=Europe/Paris:20230914T140000
DTEND;TZID=Europe/Paris:20230914T180000
DTSTAMP:20260424T013020
CREATED:20230828T142355Z
LAST-MODIFIED:20230828T142712Z
UID:10001231-1694700000-1694714400@www.dizy.fr
SUMMARY:Club Amitié et Solidarité
DESCRIPTION:
URL:https://www.dizy.fr/evenement/club-amitie-et-solidarite/2023-09-14/
LOCATION:Salle Les Cerisières\, 261\, rue du Vieux Château\, Dizy\, 51530\, France
CATEGORIES:Agenda
END:VEVENT
BEGIN:VEVENT
DTSTART;TZID=Europe/Paris:20230907T140000
DTEND;TZID=Europe/Paris:20230907T180000
DTSTAMP:20260424T013020
CREATED:20230828T142355Z
LAST-MODIFIED:20230828T142712Z
UID:10001230-1694095200-1694109600@www.dizy.fr
SUMMARY:Club Amitié et Solidarité
DESCRIPTION:
URL:https://www.dizy.fr/evenement/club-amitie-et-solidarite/2023-09-07/
LOCATION:Salle Les Cerisières\, 261\, rue du Vieux Château\, Dizy\, 51530\, France
CATEGORIES:Agenda
END:VEVENT
BEGIN:VEVENT
DTSTART;TZID=Europe/Paris:20230831T140000
DTEND;TZID=Europe/Paris:20230831T180000
DTSTAMP:20260424T013020
CREATED:20230828T142355Z
LAST-MODIFIED:20230828T142712Z
UID:10001229-1693490400-1693504800@www.dizy.fr
SUMMARY:Club Amitié et Solidarité
DESCRIPTION:
URL:https://www.dizy.fr/evenement/club-amitie-et-solidarite/2023-08-31/
LOCATION:Salle Les Cerisières\, 261\, rue du Vieux Château\, Dizy\, 51530\, France
CATEGORIES:Agenda
END:VEVENT
END:VCALENDAR