BEGIN:VCALENDAR
VERSION:2.0
PRODID:-//Dizy - Porte du Vignoble - ECPv6.0.13.1//NONSGML v1.0//EN
CALSCALE:GREGORIAN
METHOD:PUBLISH
X-WR-CALNAME:Dizy - Porte du Vignoble
X-ORIGINAL-URL:https://www.dizy.fr
X-WR-CALDESC:évènements pour Dizy - Porte du Vignoble
REFRESH-INTERVAL;VALUE=DURATION:PT1H
X-Robots-Tag:noindex
X-PUBLISHED-TTL:PT1H
BEGIN:VTIMEZONE
TZID:Europe/Paris
BEGIN:DAYLIGHT
TZOFFSETFROM:+0100
TZOFFSETTO:+0200
TZNAME:CEST
DTSTART:20230326T010000
END:DAYLIGHT
BEGIN:STANDARD
TZOFFSETFROM:+0200
TZOFFSETTO:+0100
TZNAME:CET
DTSTART:20231029T010000
END:STANDARD
BEGIN:DAYLIGHT
TZOFFSETFROM:+0100
TZOFFSETTO:+0200
TZNAME:CEST
DTSTART:20240331T010000
END:DAYLIGHT
BEGIN:STANDARD
TZOFFSETFROM:+0200
TZOFFSETTO:+0100
TZNAME:CET
DTSTART:20241027T010000
END:STANDARD
END:VTIMEZONE
BEGIN:VEVENT
DTSTART;TZID=Europe/Paris:20240509T140000
DTEND;TZID=Europe/Paris:20240509T180000
DTSTAMP:20260423T220243
CREATED:20230828T142355Z
LAST-MODIFIED:20230828T142712Z
UID:10001265-1715263200-1715277600@www.dizy.fr
SUMMARY:Club Amitié et Solidarité
DESCRIPTION:
URL:https://www.dizy.fr/evenement/club-amitie-et-solidarite/2024-05-09/
LOCATION:Salle Les Cerisières\, 261\, rue du Vieux Château\, Dizy\, 51530\, France
CATEGORIES:Agenda
END:VEVENT
BEGIN:VEVENT
DTSTART;TZID=Europe/Paris:20240502T140000
DTEND;TZID=Europe/Paris:20240502T180000
DTSTAMP:20260423T220243
CREATED:20230828T142355Z
LAST-MODIFIED:20230828T142712Z
UID:10001264-1714658400-1714672800@www.dizy.fr
SUMMARY:Club Amitié et Solidarité
DESCRIPTION:
URL:https://www.dizy.fr/evenement/club-amitie-et-solidarite/2024-05-02/
LOCATION:Salle Les Cerisières\, 261\, rue du Vieux Château\, Dizy\, 51530\, France
CATEGORIES:Agenda
END:VEVENT
BEGIN:VEVENT
DTSTART;TZID=Europe/Paris:20240425T140000
DTEND;TZID=Europe/Paris:20240425T180000
DTSTAMP:20260423T220243
CREATED:20230828T142355Z
LAST-MODIFIED:20230828T142712Z
UID:10001263-1714053600-1714068000@www.dizy.fr
SUMMARY:Club Amitié et Solidarité
DESCRIPTION:
URL:https://www.dizy.fr/evenement/club-amitie-et-solidarite/2024-04-25/
LOCATION:Salle Les Cerisières\, 261\, rue du Vieux Château\, Dizy\, 51530\, France
CATEGORIES:Agenda
END:VEVENT
BEGIN:VEVENT
DTSTART;TZID=Europe/Paris:20240418T140000
DTEND;TZID=Europe/Paris:20240418T180000
DTSTAMP:20260423T220243
CREATED:20230828T142355Z
LAST-MODIFIED:20230828T142712Z
UID:10001262-1713448800-1713463200@www.dizy.fr
SUMMARY:Club Amitié et Solidarité
DESCRIPTION:
URL:https://www.dizy.fr/evenement/club-amitie-et-solidarite/2024-04-18/
LOCATION:Salle Les Cerisières\, 261\, rue du Vieux Château\, Dizy\, 51530\, France
CATEGORIES:Agenda
END:VEVENT
BEGIN:VEVENT
DTSTART;TZID=Europe/Paris:20240411T140000
DTEND;TZID=Europe/Paris:20240411T180000
DTSTAMP:20260423T220243
CREATED:20230828T142355Z
LAST-MODIFIED:20230828T142712Z
UID:10001261-1712844000-1712858400@www.dizy.fr
SUMMARY:Club Amitié et Solidarité
DESCRIPTION:
URL:https://www.dizy.fr/evenement/club-amitie-et-solidarite/2024-04-11/
LOCATION:Salle Les Cerisières\, 261\, rue du Vieux Château\, Dizy\, 51530\, France
CATEGORIES:Agenda
END:VEVENT
BEGIN:VEVENT
DTSTART;TZID=Europe/Paris:20240404T140000
DTEND;TZID=Europe/Paris:20240404T180000
DTSTAMP:20260423T220244
CREATED:20230828T142355Z
LAST-MODIFIED:20230828T142712Z
UID:10001260-1712239200-1712253600@www.dizy.fr
SUMMARY:Club Amitié et Solidarité
DESCRIPTION:
URL:https://www.dizy.fr/evenement/club-amitie-et-solidarite/2024-04-04/
LOCATION:Salle Les Cerisières\, 261\, rue du Vieux Château\, Dizy\, 51530\, France
CATEGORIES:Agenda
END:VEVENT
BEGIN:VEVENT
DTSTART;TZID=Europe/Paris:20240328T140000
DTEND;TZID=Europe/Paris:20240328T180000
DTSTAMP:20260423T220244
CREATED:20230828T142355Z
LAST-MODIFIED:20230828T142712Z
UID:10001259-1711634400-1711648800@www.dizy.fr
SUMMARY:Club Amitié et Solidarité
DESCRIPTION:
URL:https://www.dizy.fr/evenement/club-amitie-et-solidarite/2024-03-28/
LOCATION:Salle Les Cerisières\, 261\, rue du Vieux Château\, Dizy\, 51530\, France
CATEGORIES:Agenda
END:VEVENT
BEGIN:VEVENT
DTSTART;TZID=Europe/Paris:20240321T140000
DTEND;TZID=Europe/Paris:20240321T180000
DTSTAMP:20260423T220244
CREATED:20230828T142355Z
LAST-MODIFIED:20230828T142712Z
UID:10001258-1711029600-1711044000@www.dizy.fr
SUMMARY:Club Amitié et Solidarité
DESCRIPTION:
URL:https://www.dizy.fr/evenement/club-amitie-et-solidarite/2024-03-21/
LOCATION:Salle Les Cerisières\, 261\, rue du Vieux Château\, Dizy\, 51530\, France
CATEGORIES:Agenda
END:VEVENT
BEGIN:VEVENT
DTSTART;TZID=Europe/Paris:20240314T140000
DTEND;TZID=Europe/Paris:20240314T180000
DTSTAMP:20260423T220244
CREATED:20230828T142355Z
LAST-MODIFIED:20230828T142712Z
UID:10001257-1710424800-1710439200@www.dizy.fr
SUMMARY:Club Amitié et Solidarité
DESCRIPTION:
URL:https://www.dizy.fr/evenement/club-amitie-et-solidarite/2024-03-14/
LOCATION:Salle Les Cerisières\, 261\, rue du Vieux Château\, Dizy\, 51530\, France
CATEGORIES:Agenda
END:VEVENT
BEGIN:VEVENT
DTSTART;TZID=Europe/Paris:20240307T140000
DTEND;TZID=Europe/Paris:20240307T180000
DTSTAMP:20260423T220244
CREATED:20230828T142355Z
LAST-MODIFIED:20230828T142712Z
UID:10001256-1709820000-1709834400@www.dizy.fr
SUMMARY:Club Amitié et Solidarité
DESCRIPTION:
URL:https://www.dizy.fr/evenement/club-amitie-et-solidarite/2024-03-07/
LOCATION:Salle Les Cerisières\, 261\, rue du Vieux Château\, Dizy\, 51530\, France
CATEGORIES:Agenda
END:VEVENT
BEGIN:VEVENT
DTSTART;TZID=Europe/Paris:20240229T140000
DTEND;TZID=Europe/Paris:20240229T180000
DTSTAMP:20260423T220244
CREATED:20230828T142355Z
LAST-MODIFIED:20230828T142712Z
UID:10001255-1709215200-1709229600@www.dizy.fr
SUMMARY:Club Amitié et Solidarité
DESCRIPTION:
URL:https://www.dizy.fr/evenement/club-amitie-et-solidarite/2024-02-29/
LOCATION:Salle Les Cerisières\, 261\, rue du Vieux Château\, Dizy\, 51530\, France
CATEGORIES:Agenda
END:VEVENT
BEGIN:VEVENT
DTSTART;TZID=Europe/Paris:20240222T140000
DTEND;TZID=Europe/Paris:20240222T180000
DTSTAMP:20260423T220244
CREATED:20230828T142355Z
LAST-MODIFIED:20230828T142712Z
UID:10001254-1708610400-1708624800@www.dizy.fr
SUMMARY:Club Amitié et Solidarité
DESCRIPTION:
URL:https://www.dizy.fr/evenement/club-amitie-et-solidarite/2024-02-22/
LOCATION:Salle Les Cerisières\, 261\, rue du Vieux Château\, Dizy\, 51530\, France
CATEGORIES:Agenda
END:VEVENT
BEGIN:VEVENT
DTSTART;TZID=Europe/Paris:20240215T140000
DTEND;TZID=Europe/Paris:20240215T180000
DTSTAMP:20260423T220244
CREATED:20230828T142355Z
LAST-MODIFIED:20230828T142712Z
UID:10001253-1708005600-1708020000@www.dizy.fr
SUMMARY:Club Amitié et Solidarité
DESCRIPTION:
URL:https://www.dizy.fr/evenement/club-amitie-et-solidarite/2024-02-15/
LOCATION:Salle Les Cerisières\, 261\, rue du Vieux Château\, Dizy\, 51530\, France
CATEGORIES:Agenda
END:VEVENT
BEGIN:VEVENT
DTSTART;TZID=Europe/Paris:20240208T140000
DTEND;TZID=Europe/Paris:20240208T180000
DTSTAMP:20260423T220244
CREATED:20230828T142355Z
LAST-MODIFIED:20230828T142712Z
UID:10001252-1707400800-1707415200@www.dizy.fr
SUMMARY:Club Amitié et Solidarité
DESCRIPTION:
URL:https://www.dizy.fr/evenement/club-amitie-et-solidarite/2024-02-08/
LOCATION:Salle Les Cerisières\, 261\, rue du Vieux Château\, Dizy\, 51530\, France
CATEGORIES:Agenda
END:VEVENT
BEGIN:VEVENT
DTSTART;TZID=Europe/Paris:20240201T140000
DTEND;TZID=Europe/Paris:20240201T180000
DTSTAMP:20260423T220244
CREATED:20230828T142355Z
LAST-MODIFIED:20230828T142712Z
UID:10001251-1706796000-1706810400@www.dizy.fr
SUMMARY:Club Amitié et Solidarité
DESCRIPTION:
URL:https://www.dizy.fr/evenement/club-amitie-et-solidarite/2024-02-01/
LOCATION:Salle Les Cerisières\, 261\, rue du Vieux Château\, Dizy\, 51530\, France
CATEGORIES:Agenda
END:VEVENT
BEGIN:VEVENT
DTSTART;TZID=Europe/Paris:20240125T140000
DTEND;TZID=Europe/Paris:20240125T180000
DTSTAMP:20260423T220244
CREATED:20230828T142355Z
LAST-MODIFIED:20230828T142712Z
UID:10001250-1706191200-1706205600@www.dizy.fr
SUMMARY:Club Amitié et Solidarité
DESCRIPTION:
URL:https://www.dizy.fr/evenement/club-amitie-et-solidarite/2024-01-25/
LOCATION:Salle Les Cerisières\, 261\, rue du Vieux Château\, Dizy\, 51530\, France
CATEGORIES:Agenda
END:VEVENT
BEGIN:VEVENT
DTSTART;TZID=Europe/Paris:20240118T140000
DTEND;TZID=Europe/Paris:20240118T180000
DTSTAMP:20260423T220244
CREATED:20230828T142355Z
LAST-MODIFIED:20230828T142712Z
UID:10001249-1705586400-1705600800@www.dizy.fr
SUMMARY:Club Amitié et Solidarité
DESCRIPTION:
URL:https://www.dizy.fr/evenement/club-amitie-et-solidarite/2024-01-18/
LOCATION:Salle Les Cerisières\, 261\, rue du Vieux Château\, Dizy\, 51530\, France
CATEGORIES:Agenda
END:VEVENT
BEGIN:VEVENT
DTSTART;TZID=Europe/Paris:20240111T140000
DTEND;TZID=Europe/Paris:20240111T180000
DTSTAMP:20260423T220244
CREATED:20230828T142355Z
LAST-MODIFIED:20230828T142712Z
UID:10001248-1704981600-1704996000@www.dizy.fr
SUMMARY:Club Amitié et Solidarité
DESCRIPTION:
URL:https://www.dizy.fr/evenement/club-amitie-et-solidarite/2024-01-11/
LOCATION:Salle Les Cerisières\, 261\, rue du Vieux Château\, Dizy\, 51530\, France
CATEGORIES:Agenda
END:VEVENT
BEGIN:VEVENT
DTSTART;TZID=Europe/Paris:20240104T140000
DTEND;TZID=Europe/Paris:20240104T180000
DTSTAMP:20260423T220244
CREATED:20230828T142355Z
LAST-MODIFIED:20230828T142712Z
UID:10001247-1704376800-1704391200@www.dizy.fr
SUMMARY:Club Amitié et Solidarité
DESCRIPTION:
URL:https://www.dizy.fr/evenement/club-amitie-et-solidarite/2024-01-04/
LOCATION:Salle Les Cerisières\, 261\, rue du Vieux Château\, Dizy\, 51530\, France
CATEGORIES:Agenda
END:VEVENT
BEGIN:VEVENT
DTSTART;TZID=Europe/Paris:20231228T140000
DTEND;TZID=Europe/Paris:20231228T180000
DTSTAMP:20260423T220244
CREATED:20230828T142355Z
LAST-MODIFIED:20230828T142712Z
UID:10001246-1703772000-1703786400@www.dizy.fr
SUMMARY:Club Amitié et Solidarité
DESCRIPTION:
URL:https://www.dizy.fr/evenement/club-amitie-et-solidarite/2023-12-28/
LOCATION:Salle Les Cerisières\, 261\, rue du Vieux Château\, Dizy\, 51530\, France
CATEGORIES:Agenda
END:VEVENT
BEGIN:VEVENT
DTSTART;TZID=Europe/Paris:20231221T140000
DTEND;TZID=Europe/Paris:20231221T180000
DTSTAMP:20260423T220244
CREATED:20230828T142355Z
LAST-MODIFIED:20230828T142712Z
UID:10001245-1703167200-1703181600@www.dizy.fr
SUMMARY:Club Amitié et Solidarité
DESCRIPTION:
URL:https://www.dizy.fr/evenement/club-amitie-et-solidarite/2023-12-21/
LOCATION:Salle Les Cerisières\, 261\, rue du Vieux Château\, Dizy\, 51530\, France
CATEGORIES:Agenda
END:VEVENT
BEGIN:VEVENT
DTSTART;TZID=Europe/Paris:20231214T140000
DTEND;TZID=Europe/Paris:20231214T180000
DTSTAMP:20260423T220244
CREATED:20230828T142355Z
LAST-MODIFIED:20230828T142712Z
UID:10001244-1702562400-1702576800@www.dizy.fr
SUMMARY:Club Amitié et Solidarité
DESCRIPTION:
URL:https://www.dizy.fr/evenement/club-amitie-et-solidarite/2023-12-14/
LOCATION:Salle Les Cerisières\, 261\, rue du Vieux Château\, Dizy\, 51530\, France
CATEGORIES:Agenda
END:VEVENT
BEGIN:VEVENT
DTSTART;TZID=Europe/Paris:20231207T140000
DTEND;TZID=Europe/Paris:20231207T180000
DTSTAMP:20260423T220244
CREATED:20230828T142355Z
LAST-MODIFIED:20230828T142712Z
UID:10001243-1701957600-1701972000@www.dizy.fr
SUMMARY:Club Amitié et Solidarité
DESCRIPTION:
URL:https://www.dizy.fr/evenement/club-amitie-et-solidarite/2023-12-07/
LOCATION:Salle Les Cerisières\, 261\, rue du Vieux Château\, Dizy\, 51530\, France
CATEGORIES:Agenda
END:VEVENT
BEGIN:VEVENT
DTSTART;TZID=Europe/Paris:20231130T140000
DTEND;TZID=Europe/Paris:20231130T180000
DTSTAMP:20260423T220244
CREATED:20230828T142355Z
LAST-MODIFIED:20230828T142712Z
UID:10001242-1701352800-1701367200@www.dizy.fr
SUMMARY:Club Amitié et Solidarité
DESCRIPTION:
URL:https://www.dizy.fr/evenement/club-amitie-et-solidarite/2023-11-30/
LOCATION:Salle Les Cerisières\, 261\, rue du Vieux Château\, Dizy\, 51530\, France
CATEGORIES:Agenda
END:VEVENT
BEGIN:VEVENT
DTSTART;TZID=Europe/Paris:20231123T140000
DTEND;TZID=Europe/Paris:20231123T180000
DTSTAMP:20260423T220244
CREATED:20230828T142355Z
LAST-MODIFIED:20230828T142712Z
UID:10001241-1700748000-1700762400@www.dizy.fr
SUMMARY:Club Amitié et Solidarité
DESCRIPTION:
URL:https://www.dizy.fr/evenement/club-amitie-et-solidarite/2023-11-23/
LOCATION:Salle Les Cerisières\, 261\, rue du Vieux Château\, Dizy\, 51530\, France
CATEGORIES:Agenda
END:VEVENT
BEGIN:VEVENT
DTSTART;TZID=Europe/Paris:20231116T140000
DTEND;TZID=Europe/Paris:20231116T180000
DTSTAMP:20260423T220244
CREATED:20230828T142355Z
LAST-MODIFIED:20230828T142712Z
UID:10001240-1700143200-1700157600@www.dizy.fr
SUMMARY:Club Amitié et Solidarité
DESCRIPTION:
URL:https://www.dizy.fr/evenement/club-amitie-et-solidarite/2023-11-16/
LOCATION:Salle Les Cerisières\, 261\, rue du Vieux Château\, Dizy\, 51530\, France
CATEGORIES:Agenda
END:VEVENT
BEGIN:VEVENT
DTSTART;TZID=Europe/Paris:20231109T140000
DTEND;TZID=Europe/Paris:20231109T180000
DTSTAMP:20260423T220244
CREATED:20230828T142355Z
LAST-MODIFIED:20230828T142712Z
UID:10001239-1699538400-1699552800@www.dizy.fr
SUMMARY:Club Amitié et Solidarité
DESCRIPTION:
URL:https://www.dizy.fr/evenement/club-amitie-et-solidarite/2023-11-09/
LOCATION:Salle Les Cerisières\, 261\, rue du Vieux Château\, Dizy\, 51530\, France
CATEGORIES:Agenda
END:VEVENT
BEGIN:VEVENT
DTSTART;TZID=Europe/Paris:20231102T140000
DTEND;TZID=Europe/Paris:20231102T180000
DTSTAMP:20260423T220244
CREATED:20230828T142355Z
LAST-MODIFIED:20230828T142712Z
UID:10001238-1698933600-1698948000@www.dizy.fr
SUMMARY:Club Amitié et Solidarité
DESCRIPTION:
URL:https://www.dizy.fr/evenement/club-amitie-et-solidarite/2023-11-02/
LOCATION:Salle Les Cerisières\, 261\, rue du Vieux Château\, Dizy\, 51530\, France
CATEGORIES:Agenda
END:VEVENT
BEGIN:VEVENT
DTSTART;TZID=Europe/Paris:20231026T140000
DTEND;TZID=Europe/Paris:20231026T180000
DTSTAMP:20260423T220244
CREATED:20230828T142355Z
LAST-MODIFIED:20230828T142712Z
UID:10001237-1698328800-1698343200@www.dizy.fr
SUMMARY:Club Amitié et Solidarité
DESCRIPTION:
URL:https://www.dizy.fr/evenement/club-amitie-et-solidarite/2023-10-26/
LOCATION:Salle Les Cerisières\, 261\, rue du Vieux Château\, Dizy\, 51530\, France
CATEGORIES:Agenda
END:VEVENT
BEGIN:VEVENT
DTSTART;TZID=Europe/Paris:20231019T140000
DTEND;TZID=Europe/Paris:20231019T180000
DTSTAMP:20260423T220244
CREATED:20230828T142355Z
LAST-MODIFIED:20230828T142712Z
UID:10001236-1697724000-1697738400@www.dizy.fr
SUMMARY:Club Amitié et Solidarité
DESCRIPTION:
URL:https://www.dizy.fr/evenement/club-amitie-et-solidarite/2023-10-19/
LOCATION:Salle Les Cerisières\, 261\, rue du Vieux Château\, Dizy\, 51530\, France
CATEGORIES:Agenda
END:VEVENT
END:VCALENDAR