BEGIN:VCALENDAR
VERSION:2.0
PRODID:-//Dizy - Porte du Vignoble - ECPv6.0.13.1//NONSGML v1.0//EN
CALSCALE:GREGORIAN
METHOD:PUBLISH
X-ORIGINAL-URL:https://www.dizy.fr
X-WR-CALDESC:évènements pour Dizy - Porte du Vignoble
REFRESH-INTERVAL;VALUE=DURATION:PT1H
X-Robots-Tag:noindex
X-PUBLISHED-TTL:PT1H
BEGIN:VTIMEZONE
TZID:Europe/Paris
BEGIN:DAYLIGHT
TZOFFSETFROM:+0100
TZOFFSETTO:+0200
TZNAME:CEST
DTSTART:20230326T010000
END:DAYLIGHT
BEGIN:STANDARD
TZOFFSETFROM:+0200
TZOFFSETTO:+0100
TZNAME:CET
DTSTART:20231029T010000
END:STANDARD
BEGIN:DAYLIGHT
TZOFFSETFROM:+0100
TZOFFSETTO:+0200
TZNAME:CEST
DTSTART:20240331T010000
END:DAYLIGHT
BEGIN:STANDARD
TZOFFSETFROM:+0200
TZOFFSETTO:+0100
TZNAME:CET
DTSTART:20241027T010000
END:STANDARD
END:VTIMEZONE
BEGIN:VEVENT
DTSTART;TZID=Europe/Paris:20240701T194500
DTEND;TZID=Europe/Paris:20240701T210000
DTSTAMP:20260423T025313
CREATED:20230828T145933Z
LAST-MODIFIED:20230828T145933Z
UID:10001410-1719863100-1719867600@www.dizy.fr
SUMMARY:Renforcement musculaire - Association Les Galipettes
DESCRIPTION:
URL:https://www.dizy.fr/evenement/renforcement-musculaire-association-les-galipettes/2024-07-01/
LOCATION:Salle omnisports\, 51 rue de la Briquèterie\, DIZY\, Sélectionner un État :\, 51530\, France
CATEGORIES:Agenda
END:VEVENT
BEGIN:VEVENT
DTSTART;TZID=Europe/Paris:20240624T194500
DTEND;TZID=Europe/Paris:20240624T210000
DTSTAMP:20260423T025313
CREATED:20230828T145933Z
LAST-MODIFIED:20230828T145933Z
UID:10001409-1719258300-1719262800@www.dizy.fr
SUMMARY:Renforcement musculaire - Association Les Galipettes
DESCRIPTION:
URL:https://www.dizy.fr/evenement/renforcement-musculaire-association-les-galipettes/2024-06-24/
LOCATION:Salle omnisports\, 51 rue de la Briquèterie\, DIZY\, Sélectionner un État :\, 51530\, France
CATEGORIES:Agenda
END:VEVENT
BEGIN:VEVENT
DTSTART;TZID=Europe/Paris:20240617T194500
DTEND;TZID=Europe/Paris:20240617T210000
DTSTAMP:20260423T025313
CREATED:20230828T145933Z
LAST-MODIFIED:20230828T145933Z
UID:10001408-1718653500-1718658000@www.dizy.fr
SUMMARY:Renforcement musculaire - Association Les Galipettes
DESCRIPTION:
URL:https://www.dizy.fr/evenement/renforcement-musculaire-association-les-galipettes/2024-06-17/
LOCATION:Salle omnisports\, 51 rue de la Briquèterie\, DIZY\, Sélectionner un État :\, 51530\, France
CATEGORIES:Agenda
END:VEVENT
BEGIN:VEVENT
DTSTART;TZID=Europe/Paris:20240610T194500
DTEND;TZID=Europe/Paris:20240610T210000
DTSTAMP:20260423T025313
CREATED:20230828T145933Z
LAST-MODIFIED:20230828T145933Z
UID:10001407-1718048700-1718053200@www.dizy.fr
SUMMARY:Renforcement musculaire - Association Les Galipettes
DESCRIPTION:
URL:https://www.dizy.fr/evenement/renforcement-musculaire-association-les-galipettes/2024-06-10/
LOCATION:Salle omnisports\, 51 rue de la Briquèterie\, DIZY\, Sélectionner un État :\, 51530\, France
CATEGORIES:Agenda
END:VEVENT
BEGIN:VEVENT
DTSTART;TZID=Europe/Paris:20240603T194500
DTEND;TZID=Europe/Paris:20240603T210000
DTSTAMP:20260423T025313
CREATED:20230828T145933Z
LAST-MODIFIED:20230828T145933Z
UID:10001406-1717443900-1717448400@www.dizy.fr
SUMMARY:Renforcement musculaire - Association Les Galipettes
DESCRIPTION:
URL:https://www.dizy.fr/evenement/renforcement-musculaire-association-les-galipettes/2024-06-03/
LOCATION:Salle omnisports\, 51 rue de la Briquèterie\, DIZY\, Sélectionner un État :\, 51530\, France
CATEGORIES:Agenda
END:VEVENT
BEGIN:VEVENT
DTSTART;TZID=Europe/Paris:20240527T194500
DTEND;TZID=Europe/Paris:20240527T210000
DTSTAMP:20260423T025313
CREATED:20230828T145933Z
LAST-MODIFIED:20230828T145933Z
UID:10001405-1716839100-1716843600@www.dizy.fr
SUMMARY:Renforcement musculaire - Association Les Galipettes
DESCRIPTION:
URL:https://www.dizy.fr/evenement/renforcement-musculaire-association-les-galipettes/2024-05-27/
LOCATION:Salle omnisports\, 51 rue de la Briquèterie\, DIZY\, Sélectionner un État :\, 51530\, France
CATEGORIES:Agenda
END:VEVENT
BEGIN:VEVENT
DTSTART;TZID=Europe/Paris:20240520T194500
DTEND;TZID=Europe/Paris:20240520T210000
DTSTAMP:20260423T025313
CREATED:20230828T145933Z
LAST-MODIFIED:20230828T145933Z
UID:10001404-1716234300-1716238800@www.dizy.fr
SUMMARY:Renforcement musculaire - Association Les Galipettes
DESCRIPTION:
URL:https://www.dizy.fr/evenement/renforcement-musculaire-association-les-galipettes/2024-05-20/
LOCATION:Salle omnisports\, 51 rue de la Briquèterie\, DIZY\, Sélectionner un État :\, 51530\, France
CATEGORIES:Agenda
END:VEVENT
BEGIN:VEVENT
DTSTART;TZID=Europe/Paris:20240513T194500
DTEND;TZID=Europe/Paris:20240513T210000
DTSTAMP:20260423T025313
CREATED:20230828T145933Z
LAST-MODIFIED:20230828T145933Z
UID:10001403-1715629500-1715634000@www.dizy.fr
SUMMARY:Renforcement musculaire - Association Les Galipettes
DESCRIPTION:
URL:https://www.dizy.fr/evenement/renforcement-musculaire-association-les-galipettes/2024-05-13/
LOCATION:Salle omnisports\, 51 rue de la Briquèterie\, DIZY\, Sélectionner un État :\, 51530\, France
CATEGORIES:Agenda
END:VEVENT
BEGIN:VEVENT
DTSTART;TZID=Europe/Paris:20240506T194500
DTEND;TZID=Europe/Paris:20240506T210000
DTSTAMP:20260423T025313
CREATED:20230828T145933Z
LAST-MODIFIED:20230828T145933Z
UID:10001402-1715024700-1715029200@www.dizy.fr
SUMMARY:Renforcement musculaire - Association Les Galipettes
DESCRIPTION:
URL:https://www.dizy.fr/evenement/renforcement-musculaire-association-les-galipettes/2024-05-06/
LOCATION:Salle omnisports\, 51 rue de la Briquèterie\, DIZY\, Sélectionner un État :\, 51530\, France
CATEGORIES:Agenda
END:VEVENT
BEGIN:VEVENT
DTSTART;TZID=Europe/Paris:20240429T194500
DTEND;TZID=Europe/Paris:20240429T210000
DTSTAMP:20260423T025313
CREATED:20230828T145933Z
LAST-MODIFIED:20230828T145933Z
UID:10001401-1714419900-1714424400@www.dizy.fr
SUMMARY:Renforcement musculaire - Association Les Galipettes
DESCRIPTION:
URL:https://www.dizy.fr/evenement/renforcement-musculaire-association-les-galipettes/2024-04-29/
LOCATION:Salle omnisports\, 51 rue de la Briquèterie\, DIZY\, Sélectionner un État :\, 51530\, France
CATEGORIES:Agenda
END:VEVENT
BEGIN:VEVENT
DTSTART;TZID=Europe/Paris:20240422T194500
DTEND;TZID=Europe/Paris:20240422T210000
DTSTAMP:20260423T025313
CREATED:20230828T145933Z
LAST-MODIFIED:20230828T145933Z
UID:10001400-1713815100-1713819600@www.dizy.fr
SUMMARY:Renforcement musculaire - Association Les Galipettes
DESCRIPTION:
URL:https://www.dizy.fr/evenement/renforcement-musculaire-association-les-galipettes/2024-04-22/
LOCATION:Salle omnisports\, 51 rue de la Briquèterie\, DIZY\, Sélectionner un État :\, 51530\, France
CATEGORIES:Agenda
END:VEVENT
BEGIN:VEVENT
DTSTART;TZID=Europe/Paris:20240415T194500
DTEND;TZID=Europe/Paris:20240415T210000
DTSTAMP:20260423T025313
CREATED:20230828T145933Z
LAST-MODIFIED:20230828T145933Z
UID:10001399-1713210300-1713214800@www.dizy.fr
SUMMARY:Renforcement musculaire - Association Les Galipettes
DESCRIPTION:
URL:https://www.dizy.fr/evenement/renforcement-musculaire-association-les-galipettes/2024-04-15/
LOCATION:Salle omnisports\, 51 rue de la Briquèterie\, DIZY\, Sélectionner un État :\, 51530\, France
CATEGORIES:Agenda
END:VEVENT
BEGIN:VEVENT
DTSTART;TZID=Europe/Paris:20240408T194500
DTEND;TZID=Europe/Paris:20240408T210000
DTSTAMP:20260423T025313
CREATED:20230828T145933Z
LAST-MODIFIED:20230828T145933Z
UID:10001398-1712605500-1712610000@www.dizy.fr
SUMMARY:Renforcement musculaire - Association Les Galipettes
DESCRIPTION:
URL:https://www.dizy.fr/evenement/renforcement-musculaire-association-les-galipettes/2024-04-08/
LOCATION:Salle omnisports\, 51 rue de la Briquèterie\, DIZY\, Sélectionner un État :\, 51530\, France
CATEGORIES:Agenda
END:VEVENT
BEGIN:VEVENT
DTSTART;TZID=Europe/Paris:20240401T194500
DTEND;TZID=Europe/Paris:20240401T210000
DTSTAMP:20260423T025313
CREATED:20230828T145933Z
LAST-MODIFIED:20230828T145933Z
UID:10001397-1712000700-1712005200@www.dizy.fr
SUMMARY:Renforcement musculaire - Association Les Galipettes
DESCRIPTION:
URL:https://www.dizy.fr/evenement/renforcement-musculaire-association-les-galipettes/2024-04-01/
LOCATION:Salle omnisports\, 51 rue de la Briquèterie\, DIZY\, Sélectionner un État :\, 51530\, France
CATEGORIES:Agenda
END:VEVENT
BEGIN:VEVENT
DTSTART;TZID=Europe/Paris:20240325T194500
DTEND;TZID=Europe/Paris:20240325T210000
DTSTAMP:20260423T025313
CREATED:20230828T145933Z
LAST-MODIFIED:20230828T145933Z
UID:10001396-1711395900-1711400400@www.dizy.fr
SUMMARY:Renforcement musculaire - Association Les Galipettes
DESCRIPTION:
URL:https://www.dizy.fr/evenement/renforcement-musculaire-association-les-galipettes/2024-03-25/
LOCATION:Salle omnisports\, 51 rue de la Briquèterie\, DIZY\, Sélectionner un État :\, 51530\, France
CATEGORIES:Agenda
END:VEVENT
BEGIN:VEVENT
DTSTART;TZID=Europe/Paris:20240318T194500
DTEND;TZID=Europe/Paris:20240318T210000
DTSTAMP:20260423T025313
CREATED:20230828T145933Z
LAST-MODIFIED:20230828T145933Z
UID:10001395-1710791100-1710795600@www.dizy.fr
SUMMARY:Renforcement musculaire - Association Les Galipettes
DESCRIPTION:
URL:https://www.dizy.fr/evenement/renforcement-musculaire-association-les-galipettes/2024-03-18/
LOCATION:Salle omnisports\, 51 rue de la Briquèterie\, DIZY\, Sélectionner un État :\, 51530\, France
CATEGORIES:Agenda
END:VEVENT
BEGIN:VEVENT
DTSTART;TZID=Europe/Paris:20240311T194500
DTEND;TZID=Europe/Paris:20240311T210000
DTSTAMP:20260423T025313
CREATED:20230828T145933Z
LAST-MODIFIED:20230828T145933Z
UID:10001394-1710186300-1710190800@www.dizy.fr
SUMMARY:Renforcement musculaire - Association Les Galipettes
DESCRIPTION:
URL:https://www.dizy.fr/evenement/renforcement-musculaire-association-les-galipettes/2024-03-11/
LOCATION:Salle omnisports\, 51 rue de la Briquèterie\, DIZY\, Sélectionner un État :\, 51530\, France
CATEGORIES:Agenda
END:VEVENT
BEGIN:VEVENT
DTSTART;TZID=Europe/Paris:20240304T194500
DTEND;TZID=Europe/Paris:20240304T210000
DTSTAMP:20260423T025313
CREATED:20230828T145933Z
LAST-MODIFIED:20230828T145933Z
UID:10001393-1709581500-1709586000@www.dizy.fr
SUMMARY:Renforcement musculaire - Association Les Galipettes
DESCRIPTION:
URL:https://www.dizy.fr/evenement/renforcement-musculaire-association-les-galipettes/2024-03-04/
LOCATION:Salle omnisports\, 51 rue de la Briquèterie\, DIZY\, Sélectionner un État :\, 51530\, France
CATEGORIES:Agenda
END:VEVENT
BEGIN:VEVENT
DTSTART;TZID=Europe/Paris:20240226T194500
DTEND;TZID=Europe/Paris:20240226T210000
DTSTAMP:20260423T025313
CREATED:20230828T145933Z
LAST-MODIFIED:20230828T145933Z
UID:10001392-1708976700-1708981200@www.dizy.fr
SUMMARY:Renforcement musculaire - Association Les Galipettes
DESCRIPTION:
URL:https://www.dizy.fr/evenement/renforcement-musculaire-association-les-galipettes/2024-02-26/
LOCATION:Salle omnisports\, 51 rue de la Briquèterie\, DIZY\, Sélectionner un État :\, 51530\, France
CATEGORIES:Agenda
END:VEVENT
BEGIN:VEVENT
DTSTART;TZID=Europe/Paris:20240219T194500
DTEND;TZID=Europe/Paris:20240219T210000
DTSTAMP:20260423T025313
CREATED:20230828T145933Z
LAST-MODIFIED:20230828T145933Z
UID:10001391-1708371900-1708376400@www.dizy.fr
SUMMARY:Renforcement musculaire - Association Les Galipettes
DESCRIPTION:
URL:https://www.dizy.fr/evenement/renforcement-musculaire-association-les-galipettes/2024-02-19/
LOCATION:Salle omnisports\, 51 rue de la Briquèterie\, DIZY\, Sélectionner un État :\, 51530\, France
CATEGORIES:Agenda
END:VEVENT
BEGIN:VEVENT
DTSTART;TZID=Europe/Paris:20240212T194500
DTEND;TZID=Europe/Paris:20240212T210000
DTSTAMP:20260423T025313
CREATED:20230828T145933Z
LAST-MODIFIED:20230828T145933Z
UID:10001390-1707767100-1707771600@www.dizy.fr
SUMMARY:Renforcement musculaire - Association Les Galipettes
DESCRIPTION:
URL:https://www.dizy.fr/evenement/renforcement-musculaire-association-les-galipettes/2024-02-12/
LOCATION:Salle omnisports\, 51 rue de la Briquèterie\, DIZY\, Sélectionner un État :\, 51530\, France
CATEGORIES:Agenda
END:VEVENT
BEGIN:VEVENT
DTSTART;TZID=Europe/Paris:20240205T194500
DTEND;TZID=Europe/Paris:20240205T210000
DTSTAMP:20260423T025313
CREATED:20230828T145933Z
LAST-MODIFIED:20230828T145933Z
UID:10001389-1707162300-1707166800@www.dizy.fr
SUMMARY:Renforcement musculaire - Association Les Galipettes
DESCRIPTION:
URL:https://www.dizy.fr/evenement/renforcement-musculaire-association-les-galipettes/2024-02-05/
LOCATION:Salle omnisports\, 51 rue de la Briquèterie\, DIZY\, Sélectionner un État :\, 51530\, France
CATEGORIES:Agenda
END:VEVENT
BEGIN:VEVENT
DTSTART;TZID=Europe/Paris:20240129T194500
DTEND;TZID=Europe/Paris:20240129T210000
DTSTAMP:20260423T025313
CREATED:20230828T145933Z
LAST-MODIFIED:20230828T145933Z
UID:10001388-1706557500-1706562000@www.dizy.fr
SUMMARY:Renforcement musculaire - Association Les Galipettes
DESCRIPTION:
URL:https://www.dizy.fr/evenement/renforcement-musculaire-association-les-galipettes/2024-01-29/
LOCATION:Salle omnisports\, 51 rue de la Briquèterie\, DIZY\, Sélectionner un État :\, 51530\, France
CATEGORIES:Agenda
END:VEVENT
BEGIN:VEVENT
DTSTART;TZID=Europe/Paris:20240122T194500
DTEND;TZID=Europe/Paris:20240122T210000
DTSTAMP:20260423T025313
CREATED:20230828T145933Z
LAST-MODIFIED:20230828T145933Z
UID:10001387-1705952700-1705957200@www.dizy.fr
SUMMARY:Renforcement musculaire - Association Les Galipettes
DESCRIPTION:
URL:https://www.dizy.fr/evenement/renforcement-musculaire-association-les-galipettes/2024-01-22/
LOCATION:Salle omnisports\, 51 rue de la Briquèterie\, DIZY\, Sélectionner un État :\, 51530\, France
CATEGORIES:Agenda
END:VEVENT
BEGIN:VEVENT
DTSTART;TZID=Europe/Paris:20240115T194500
DTEND;TZID=Europe/Paris:20240115T210000
DTSTAMP:20260423T025313
CREATED:20230828T145933Z
LAST-MODIFIED:20230828T145933Z
UID:10001386-1705347900-1705352400@www.dizy.fr
SUMMARY:Renforcement musculaire - Association Les Galipettes
DESCRIPTION:
URL:https://www.dizy.fr/evenement/renforcement-musculaire-association-les-galipettes/2024-01-15/
LOCATION:Salle omnisports\, 51 rue de la Briquèterie\, DIZY\, Sélectionner un État :\, 51530\, France
CATEGORIES:Agenda
END:VEVENT
BEGIN:VEVENT
DTSTART;TZID=Europe/Paris:20240108T194500
DTEND;TZID=Europe/Paris:20240108T210000
DTSTAMP:20260423T025313
CREATED:20230828T145933Z
LAST-MODIFIED:20230828T145933Z
UID:10001385-1704743100-1704747600@www.dizy.fr
SUMMARY:Renforcement musculaire - Association Les Galipettes
DESCRIPTION:
URL:https://www.dizy.fr/evenement/renforcement-musculaire-association-les-galipettes/2024-01-08/
LOCATION:Salle omnisports\, 51 rue de la Briquèterie\, DIZY\, Sélectionner un État :\, 51530\, France
CATEGORIES:Agenda
END:VEVENT
BEGIN:VEVENT
DTSTART;TZID=Europe/Paris:20240101T194500
DTEND;TZID=Europe/Paris:20240101T210000
DTSTAMP:20260423T025313
CREATED:20230828T145933Z
LAST-MODIFIED:20230828T145933Z
UID:10001384-1704138300-1704142800@www.dizy.fr
SUMMARY:Renforcement musculaire - Association Les Galipettes
DESCRIPTION:
URL:https://www.dizy.fr/evenement/renforcement-musculaire-association-les-galipettes/2024-01-01/
LOCATION:Salle omnisports\, 51 rue de la Briquèterie\, DIZY\, Sélectionner un État :\, 51530\, France
CATEGORIES:Agenda
END:VEVENT
BEGIN:VEVENT
DTSTART;TZID=Europe/Paris:20231225T194500
DTEND;TZID=Europe/Paris:20231225T210000
DTSTAMP:20260423T025313
CREATED:20230828T145933Z
LAST-MODIFIED:20230828T145933Z
UID:10001383-1703533500-1703538000@www.dizy.fr
SUMMARY:Renforcement musculaire - Association Les Galipettes
DESCRIPTION:
URL:https://www.dizy.fr/evenement/renforcement-musculaire-association-les-galipettes/2023-12-25/
LOCATION:Salle omnisports\, 51 rue de la Briquèterie\, DIZY\, Sélectionner un État :\, 51530\, France
CATEGORIES:Agenda
END:VEVENT
BEGIN:VEVENT
DTSTART;TZID=Europe/Paris:20231218T194500
DTEND;TZID=Europe/Paris:20231218T210000
DTSTAMP:20260423T025313
CREATED:20230828T145933Z
LAST-MODIFIED:20230828T145933Z
UID:10001382-1702928700-1702933200@www.dizy.fr
SUMMARY:Renforcement musculaire - Association Les Galipettes
DESCRIPTION:
URL:https://www.dizy.fr/evenement/renforcement-musculaire-association-les-galipettes/2023-12-18/
LOCATION:Salle omnisports\, 51 rue de la Briquèterie\, DIZY\, Sélectionner un État :\, 51530\, France
CATEGORIES:Agenda
END:VEVENT
BEGIN:VEVENT
DTSTART;TZID=Europe/Paris:20231211T194500
DTEND;TZID=Europe/Paris:20231211T210000
DTSTAMP:20260423T025313
CREATED:20230828T145933Z
LAST-MODIFIED:20230828T145933Z
UID:10001381-1702323900-1702328400@www.dizy.fr
SUMMARY:Renforcement musculaire - Association Les Galipettes
DESCRIPTION:
URL:https://www.dizy.fr/evenement/renforcement-musculaire-association-les-galipettes/2023-12-11/
LOCATION:Salle omnisports\, 51 rue de la Briquèterie\, DIZY\, Sélectionner un État :\, 51530\, France
CATEGORIES:Agenda
END:VEVENT
END:VCALENDAR