BEGIN:VCALENDAR
VERSION:2.0
PRODID:-//Dizy - Porte du Vignoble - ECPv6.0.13.1//NONSGML v1.0//EN
CALSCALE:GREGORIAN
METHOD:PUBLISH
X-WR-CALNAME:Dizy - Porte du Vignoble
X-ORIGINAL-URL:https://www.dizy.fr
X-WR-CALDESC:évènements pour Dizy - Porte du Vignoble
REFRESH-INTERVAL;VALUE=DURATION:PT1H
X-Robots-Tag:noindex
X-PUBLISHED-TTL:PT1H
BEGIN:VTIMEZONE
TZID:Europe/Paris
BEGIN:DAYLIGHT
TZOFFSETFROM:+0100
TZOFFSETTO:+0200
TZNAME:CEST
DTSTART:20250330T010000
END:DAYLIGHT
BEGIN:STANDARD
TZOFFSETFROM:+0200
TZOFFSETTO:+0100
TZNAME:CET
DTSTART:20251026T010000
END:STANDARD
END:VTIMEZONE
BEGIN:VEVENT
DTSTART;VALUE=DATE:20251016
DTEND;VALUE=DATE:20251017
DTSTAMP:20260420T170127
CREATED:20250411T122824Z
LAST-MODIFIED:20250616T125113Z
UID:10001755-1760601600-1760634000@www.dizy.fr
SUMMARY:Passage de la balayeuse
DESCRIPTION:Merci d’oter votre véhicule avant le passage de la balayeuse afin de faciliter le nettoyage de la chaussée.
URL:https://www.dizy.fr/evenement/passage-de-la-balayeuse-2/2025-10-16/
LOCATION:Dizy
ORGANIZER;CN="Mairie":MAILTO:contact@ville-dizy.fr
END:VEVENT
BEGIN:VEVENT
DTSTART;VALUE=DATE:20251020
DTEND;VALUE=DATE:20251025
DTSTAMP:20260420T170127
CREATED:20240617T070757Z
LAST-MODIFIED:20250916T141220Z
UID:10001697-1760918400-1761350399@www.dizy.fr
SUMMARY:Accueil de loisirs d'automne 2025
DESCRIPTION:Le prochain accueil de loisirs se tiendra du 20 au 24 octobre 2025 sur le thème « À nous les artistes ».Inscriptions en mairie du 22 septembre au 1er octobre\, pour les enfants de 4 à 11 ans\, aux horaires habituels d’ouverture. \nRenseignements au 03 26 55 27 63 \n 
URL:https://www.dizy.fr/evenement/accueil-de-loisirs-dautomne-2025/
LOCATION:Services périscolaires\, Rue du Vieux Château\, Dizy\, Sélectionner un État :\, 51530\, France
CATEGORIES:Accueil de loisirs,Agenda
ORGANIZER;CN="Mairie%20-%20Services%20p%C3%A9riscolaires":MAILTO:periscolaire@ville-dizy.fr
END:VEVENT
BEGIN:VEVENT
DTSTART;TZID=Europe/Paris:20251025T190000
DTEND;TZID=Europe/Paris:20251026T190000
DTSTAMP:20260420T170127
CREATED:20250912T092524Z
LAST-MODIFIED:20250912T092615Z
UID:10001761-1761418800-1761505200@www.dizy.fr
SUMMARY:Soirée bavaroise
DESCRIPTION:11ème Soirée Bavaroise – Samedi 25 octobre 2025 à Dizy 🎶 \nLe Comité de Jumelage Dizy-Sommerach organise sa traditionnelle Soirée Bavaroise le samedi 25 octobre 2025 à partir de 19h\, à la salle des fêtes de Dizy. \nAu programme : musique festive avec l’orchestre Musikverein de Sommerach\, ambiance conviviale et spécialités bavaroises ! \n👉 Tarifs : \n\n\n32 € / adulte \n\n\n16 € / enfant de moins de 12 ans \n\n\n📞 Informations et réservations : 06 70 09 07 78 \nNe manquez pas ce rendez-vous incontournable placé sous le signe de l’amitié franco-allemande
URL:https://www.dizy.fr/evenement/soiree-bavaroise/
LOCATION:Salle des fêtes\, 284\, rue du Vieux Château\, Dizy\, 51530\, France
CATEGORIES:Agenda
END:VEVENT
END:VCALENDAR