BEGIN:VCALENDAR
VERSION:2.0
PRODID:-//Dizy - Porte du Vignoble - ECPv6.0.13.1//NONSGML v1.0//EN
CALSCALE:GREGORIAN
METHOD:PUBLISH
X-ORIGINAL-URL:https://www.dizy.fr
X-WR-CALDESC:évènements pour Dizy - Porte du Vignoble
REFRESH-INTERVAL;VALUE=DURATION:PT1H
X-Robots-Tag:noindex
X-PUBLISHED-TTL:PT1H
BEGIN:VTIMEZONE
TZID:Europe/Paris
BEGIN:DAYLIGHT
TZOFFSETFROM:+0100
TZOFFSETTO:+0200
TZNAME:CEST
DTSTART:20250330T010000
END:DAYLIGHT
BEGIN:STANDARD
TZOFFSETFROM:+0200
TZOFFSETTO:+0100
TZNAME:CET
DTSTART:20251026T010000
END:STANDARD
END:VTIMEZONE
BEGIN:VEVENT
DTSTART;VALUE=DATE:20250203
DTEND;VALUE=DATE:20250222
DTSTAMP:20260425T230248
CREATED:20250203T075313Z
LAST-MODIFIED:20250203T075313Z
UID:10001728-1738540800-1740182399@www.dizy.fr
SUMMARY:Elagage des arbres
DESCRIPTION:Interdiction temporaire de stationnement sur l’avenue du général Leclerc : travaux d’élagage des arbres  \nDans le cadre des travaux d’élagage des arbres effectués par l’entreprise JEV\, et afin d’assurer la sécurité des usagers ainsi que le bon déroulement des interventions\, \nil est décidé ce qui suit : \nLe stationnement de tous les véhicules sera interdit sur l’avenue du Général Leclerc du 3 février au 21 février 2025 sauf les samedis et dimanches. \nTout véhicule en infraction pourra être enlevé aux frais de son propriétaire conformément à la réglementation en vigueur. \nMerci de votre compréhension. \nARRETE-1-2025-15
URL:https://www.dizy.fr/evenement/elagage-des-arbres/
LOCATION:Avenue du général Leclerc\, Avenue du général Leclerc\, Dizy\, 51530\, France
CATEGORIES:Voirie
ORGANIZER;CN="Mairie":MAILTO:contact@ville-dizy.fr
END:VEVENT
BEGIN:VEVENT
DTSTART;VALUE=DATE:20250210
DTEND;VALUE=DATE:20250215
DTSTAMP:20260425T230248
CREATED:20240617T065421Z
LAST-MODIFIED:20240617T070900Z
UID:10001695-1739145600-1739577599@www.dizy.fr
SUMMARY:Accueil de loisirs d'hiver 2024
DESCRIPTION:
URL:https://www.dizy.fr/evenement/accueil-de-loisirs-dhiver-2024/
LOCATION:Services périscolaires\, Rue du Vieux Château\, Dizy\, Sélectionner un État :\, 51530\, France
CATEGORIES:Accueil de loisirs,Agenda
ORGANIZER;CN="Mairie%20-%20Services%20p%C3%A9riscolaires":MAILTO:periscolaire@ville-dizy.fr
END:VEVENT
BEGIN:VEVENT
DTSTART;TZID=Europe/Paris:20250218T080000
DTEND;TZID=Europe/Paris:20250218T170000
DTSTAMP:20260425T230248
CREATED:20250218T131741Z
LAST-MODIFIED:20250218T131741Z
UID:10001730-1739865600-1739898000@www.dizy.fr
SUMMARY:vide-greniers
DESCRIPTION:Vente de vos objets ? Rejoignez notre vide-greniers ! \nVous avez des objets à vendre ? Participez à notre vide-greniers le dimanche 25 mai 2025 de 6h à 18h au bas de l’avenue du Général Leclerc\, ainsi que sur la rue\, la ruelle et la place du Vieux Château à Dizy. \nPour vous inscrire\, plusieurs options s’offrent à vous : \n\nVia le site Brocabrac : https://brocabrac.fr/51/dizy/1268146-brocante-de-dizy\n\nOrganisation : Pascal Dorme OrganisationInfos : 06 86 51 45 76 \nNe manquez pas cette occasion de vendre vos objets et faire de bonnes affaires !
URL:https://www.dizy.fr/evenement/vide-greniers/
LOCATION:Sélectionner un État :
CATEGORIES:Agenda
END:VEVENT
BEGIN:VEVENT
DTSTART;VALUE=DATE:20250224
DTEND;VALUE=DATE:20250315
DTSTAMP:20260425T230248
CREATED:20250205T085435Z
LAST-MODIFIED:20250205T085826Z
UID:10001729-1740355200-1741996799@www.dizy.fr
SUMMARY:[Enfance] : Inscription en mairie du 24 février au 14 mars 2025
DESCRIPTION:La mairie ouvre la période des inscriptions scolaires aux école maternelle et élémentaire de Dizy pour la rentrée 2025-2026 en deux étapes : inscription à la mairie puis rendez-vous à l’école maternelle. \n1: Inscription en mairie du lundi 24 février au  vendredi 14 mars 2025 \nEnfants concernés : \n\nentrée en école maternelle pour les enfants nés entre le 1er janvier et le 31 décembre 2022\nentrée en CP\ntous les enfants âgés de plus de 3 ans nouvellement arrivés à Dizy\n\nPour s’inscrire\, il est obligatoire d’apporter les pièces justificatives suivantes : \n\nle livret de famille\nle carnet de santé de l’enfant\nun justificatif de domicile de chaque parent de moins de 3 mois\nles cartes d’identité de chaque parent.\nla fiche d’inscription dûment remplie.\n\nL’inscription faite\, la mairie remettra aux parents la fiche d’inscription pour les écoles. \n2 : Rendez-vous avec la directrice de l’école maternelle au 03 26 55 32 00 \nMadame Bontempelli\, directrice de l’école maternelle\, rencontrera les parents des enfants entrant à l’école maternelle\, sur rendez-vous préalable\, les mardis 18 mars et 22 avril 2025. \nDocuments à apporter : \n\nla fiche d’inscription remise par la mairie\nle carnet de santé de l’enfant.
URL:https://www.dizy.fr/evenement/enfance-inscription-en-mairie-du-24-fevrier-au-14-mars-2025/
LOCATION:Mairie\, 276\, rue du colonel Fabien\, Dizy\, Sélectionner un État :\, 51530\, France
ORGANIZER;CN="Mairie":MAILTO:contact@ville-dizy.fr
END:VEVENT
BEGIN:VEVENT
DTSTART;TZID=Europe/Paris:20250225T080000
DTEND;TZID=Europe/Paris:20250225T170000
DTSTAMP:20260425T230248
CREATED:20250225T103649Z
LAST-MODIFIED:20250225T103716Z
UID:10001733-1740470400-1740502800@www.dizy.fr
SUMMARY:Champagne K'Danse organise des stages de danse
DESCRIPTION:L’association Champagne K’Danse organise des stages de danse samedi 15 mars 2025 à la salle des fêtes de Dizy : \n\nde 9h30 à 12h30 : Rock pour les débutants\nde 14h à 17h : Cha-Cha pour les confirmés.\n\nStages dispensés par un animateur confirmé. \nSur inscription : 20€ par session \nInformations et réservations : \n\npar courriel : champagnekdanse@laposte.net\npar téléphone : 06 78 91 78 22
URL:https://www.dizy.fr/evenement/7830/
LOCATION:Sélectionner un État :
CATEGORIES:Agenda
END:VEVENT
BEGIN:VEVENT
DTSTART;TZID=Europe/Paris:20250226T150000
DTEND;TZID=Europe/Paris:20250226T190000
DTSTAMP:20260425T230248
CREATED:20240625T145219Z
LAST-MODIFIED:20250106T090409Z
UID:10001705-1740582000-1740596400@www.dizy.fr
SUMMARY:Don du sang
DESCRIPTION:L’Etablissement Français du Sang (EFS) organise sa prochaine collecte de sang à la salle des fêtes de Dizy de 15h30 à 19h30. \n  \nRetrouvez les informations sur le site de l’EFS en cliquant ici. \n 
URL:https://www.dizy.fr/evenement/don-du-sang-2/
LOCATION:Salle des fêtes\, 284\, rue du Vieux Château\, Dizy\, 51530\, France
CATEGORIES:Agenda
END:VEVENT
END:VCALENDAR