BEGIN:VCALENDAR
VERSION:2.0
PRODID:-//Dizy - Porte du Vignoble - ECPv6.0.13.1//NONSGML v1.0//EN
CALSCALE:GREGORIAN
METHOD:PUBLISH
X-WR-CALNAME:Dizy - Porte du Vignoble
X-ORIGINAL-URL:https://www.dizy.fr
X-WR-CALDESC:évènements pour Dizy - Porte du Vignoble
REFRESH-INTERVAL;VALUE=DURATION:PT1H
X-Robots-Tag:noindex
X-PUBLISHED-TTL:PT1H
BEGIN:VTIMEZONE
TZID:Europe/Paris
BEGIN:DAYLIGHT
TZOFFSETFROM:+0100
TZOFFSETTO:+0200
TZNAME:CEST
DTSTART:20230326T010000
END:DAYLIGHT
BEGIN:STANDARD
TZOFFSETFROM:+0200
TZOFFSETTO:+0100
TZNAME:CET
DTSTART:20231029T010000
END:STANDARD
END:VTIMEZONE
BEGIN:VEVENT
DTSTART;TZID=Europe/Paris:20231201T174500
DTEND;TZID=Europe/Paris:20231201T194500
DTSTAMP:20260426T033649
CREATED:20230828T145650Z
LAST-MODIFIED:20230828T145650Z
UID:10001334-1701452700-1701459900@www.dizy.fr
SUMMARY:Zumba - USD Section Kuduro Fit Zumba
DESCRIPTION:
URL:https://www.dizy.fr/evenement/zumba-usd-section-kuduro-fit-zumba/2023-12-01/
LOCATION:Salle omnisports\, 51 rue de la Briquèterie\, DIZY\, Sélectionner un État :\, 51530\, France
CATEGORIES:Agenda
END:VEVENT
BEGIN:VEVENT
DTSTART;TZID=Europe/Paris:20231205T173000
DTEND;TZID=Europe/Paris:20231205T193000
DTSTAMP:20260426T033649
CREATED:20230828T145414Z
LAST-MODIFIED:20230828T145414Z
UID:10001291-1701797400-1701804600@www.dizy.fr
SUMMARY:Kuduro Fit - USD Section Kuduro Fit Zumba
DESCRIPTION:
URL:https://www.dizy.fr/evenement/kuduro-fit-usd-section-kuduro-fit-zumba/2023-12-05/
LOCATION:Salle omnisports\, 51 rue de la Briquèterie\, DIZY\, Sélectionner un État :\, 51530\, France
CATEGORIES:Agenda
END:VEVENT
BEGIN:VEVENT
DTSTART;TZID=Europe/Paris:20231208T174500
DTEND;TZID=Europe/Paris:20231208T194500
DTSTAMP:20260426T033649
CREATED:20230828T145650Z
LAST-MODIFIED:20230828T145650Z
UID:10001335-1702057500-1702064700@www.dizy.fr
SUMMARY:Zumba - USD Section Kuduro Fit Zumba
DESCRIPTION:
URL:https://www.dizy.fr/evenement/zumba-usd-section-kuduro-fit-zumba/2023-12-08/
LOCATION:Salle omnisports\, 51 rue de la Briquèterie\, DIZY\, Sélectionner un État :\, 51530\, France
CATEGORIES:Agenda
END:VEVENT
BEGIN:VEVENT
DTSTART;TZID=Europe/Paris:20231212T173000
DTEND;TZID=Europe/Paris:20231212T193000
DTSTAMP:20260426T033649
CREATED:20230828T145414Z
LAST-MODIFIED:20230828T145414Z
UID:10001292-1702402200-1702409400@www.dizy.fr
SUMMARY:Kuduro Fit - USD Section Kuduro Fit Zumba
DESCRIPTION:
URL:https://www.dizy.fr/evenement/kuduro-fit-usd-section-kuduro-fit-zumba/2023-12-12/
LOCATION:Salle omnisports\, 51 rue de la Briquèterie\, DIZY\, Sélectionner un État :\, 51530\, France
CATEGORIES:Agenda
END:VEVENT
BEGIN:VEVENT
DTSTART;TZID=Europe/Paris:20231215T174500
DTEND;TZID=Europe/Paris:20231215T194500
DTSTAMP:20260426T033649
CREATED:20230828T145650Z
LAST-MODIFIED:20230828T145650Z
UID:10001336-1702662300-1702669500@www.dizy.fr
SUMMARY:Zumba - USD Section Kuduro Fit Zumba
DESCRIPTION:
URL:https://www.dizy.fr/evenement/zumba-usd-section-kuduro-fit-zumba/2023-12-15/
LOCATION:Salle omnisports\, 51 rue de la Briquèterie\, DIZY\, Sélectionner un État :\, 51530\, France
CATEGORIES:Agenda
END:VEVENT
BEGIN:VEVENT
DTSTART;TZID=Europe/Paris:20231219T173000
DTEND;TZID=Europe/Paris:20231219T193000
DTSTAMP:20260426T033649
CREATED:20230828T145414Z
LAST-MODIFIED:20230828T145414Z
UID:10001293-1703007000-1703014200@www.dizy.fr
SUMMARY:Kuduro Fit - USD Section Kuduro Fit Zumba
DESCRIPTION:
URL:https://www.dizy.fr/evenement/kuduro-fit-usd-section-kuduro-fit-zumba/2023-12-19/
LOCATION:Salle omnisports\, 51 rue de la Briquèterie\, DIZY\, Sélectionner un État :\, 51530\, France
CATEGORIES:Agenda
END:VEVENT
BEGIN:VEVENT
DTSTART;TZID=Europe/Paris:20231222T174500
DTEND;TZID=Europe/Paris:20231222T194500
DTSTAMP:20260426T033649
CREATED:20230828T145650Z
LAST-MODIFIED:20230828T145650Z
UID:10001337-1703267100-1703274300@www.dizy.fr
SUMMARY:Zumba - USD Section Kuduro Fit Zumba
DESCRIPTION:
URL:https://www.dizy.fr/evenement/zumba-usd-section-kuduro-fit-zumba/2023-12-22/
LOCATION:Salle omnisports\, 51 rue de la Briquèterie\, DIZY\, Sélectionner un État :\, 51530\, France
CATEGORIES:Agenda
END:VEVENT
BEGIN:VEVENT
DTSTART;TZID=Europe/Paris:20231226T173000
DTEND;TZID=Europe/Paris:20231226T193000
DTSTAMP:20260426T033649
CREATED:20230828T145414Z
LAST-MODIFIED:20230828T145414Z
UID:10001294-1703611800-1703619000@www.dizy.fr
SUMMARY:Kuduro Fit - USD Section Kuduro Fit Zumba
DESCRIPTION:
URL:https://www.dizy.fr/evenement/kuduro-fit-usd-section-kuduro-fit-zumba/2023-12-26/
LOCATION:Salle omnisports\, 51 rue de la Briquèterie\, DIZY\, Sélectionner un État :\, 51530\, France
CATEGORIES:Agenda
END:VEVENT
BEGIN:VEVENT
DTSTART;TZID=Europe/Paris:20231229T174500
DTEND;TZID=Europe/Paris:20231229T194500
DTSTAMP:20260426T033649
CREATED:20230828T145650Z
LAST-MODIFIED:20230828T145650Z
UID:10001338-1703871900-1703879100@www.dizy.fr
SUMMARY:Zumba - USD Section Kuduro Fit Zumba
DESCRIPTION:
URL:https://www.dizy.fr/evenement/zumba-usd-section-kuduro-fit-zumba/2023-12-29/
LOCATION:Salle omnisports\, 51 rue de la Briquèterie\, DIZY\, Sélectionner un État :\, 51530\, France
CATEGORIES:Agenda
END:VEVENT
END:VCALENDAR