BEGIN:VCALENDAR
VERSION:2.0
PRODID:-//Dizy - Porte du Vignoble - ECPv6.0.13.1//NONSGML v1.0//EN
CALSCALE:GREGORIAN
METHOD:PUBLISH
X-ORIGINAL-URL:https://www.dizy.fr
X-WR-CALDESC:évènements pour Dizy - Porte du Vignoble
REFRESH-INTERVAL;VALUE=DURATION:PT1H
X-Robots-Tag:noindex
X-PUBLISHED-TTL:PT1H
BEGIN:VTIMEZONE
TZID:Europe/Paris
BEGIN:DAYLIGHT
TZOFFSETFROM:+0100
TZOFFSETTO:+0200
TZNAME:CEST
DTSTART:20230326T010000
END:DAYLIGHT
BEGIN:STANDARD
TZOFFSETFROM:+0200
TZOFFSETTO:+0100
TZNAME:CET
DTSTART:20231029T010000
END:STANDARD
END:VTIMEZONE
BEGIN:VEVENT
DTSTART;TZID=Europe/Paris:20231103T174500
DTEND;TZID=Europe/Paris:20231103T194500
DTSTAMP:20260426T051429
CREATED:20230828T145650Z
LAST-MODIFIED:20230828T145650Z
UID:10001330-1699033500-1699040700@www.dizy.fr
SUMMARY:Zumba - USD Section Kuduro Fit Zumba
DESCRIPTION:
URL:https://www.dizy.fr/evenement/zumba-usd-section-kuduro-fit-zumba/2023-11-03/
LOCATION:Salle omnisports\, 51 rue de la Briquèterie\, DIZY\, Sélectionner un État :\, 51530\, France
CATEGORIES:Agenda
END:VEVENT
BEGIN:VEVENT
DTSTART;TZID=Europe/Paris:20231107T173000
DTEND;TZID=Europe/Paris:20231107T193000
DTSTAMP:20260426T051429
CREATED:20230828T145414Z
LAST-MODIFIED:20230828T145414Z
UID:10001287-1699378200-1699385400@www.dizy.fr
SUMMARY:Kuduro Fit - USD Section Kuduro Fit Zumba
DESCRIPTION:
URL:https://www.dizy.fr/evenement/kuduro-fit-usd-section-kuduro-fit-zumba/2023-11-07/
LOCATION:Salle omnisports\, 51 rue de la Briquèterie\, DIZY\, Sélectionner un État :\, 51530\, France
CATEGORIES:Agenda
END:VEVENT
BEGIN:VEVENT
DTSTART;TZID=Europe/Paris:20231110T174500
DTEND;TZID=Europe/Paris:20231110T194500
DTSTAMP:20260426T051429
CREATED:20230828T145650Z
LAST-MODIFIED:20230828T145650Z
UID:10001331-1699638300-1699645500@www.dizy.fr
SUMMARY:Zumba - USD Section Kuduro Fit Zumba
DESCRIPTION:
URL:https://www.dizy.fr/evenement/zumba-usd-section-kuduro-fit-zumba/2023-11-10/
LOCATION:Salle omnisports\, 51 rue de la Briquèterie\, DIZY\, Sélectionner un État :\, 51530\, France
CATEGORIES:Agenda
END:VEVENT
BEGIN:VEVENT
DTSTART;TZID=Europe/Paris:20231114T173000
DTEND;TZID=Europe/Paris:20231114T193000
DTSTAMP:20260426T051429
CREATED:20230828T145414Z
LAST-MODIFIED:20230828T145414Z
UID:10001288-1699983000-1699990200@www.dizy.fr
SUMMARY:Kuduro Fit - USD Section Kuduro Fit Zumba
DESCRIPTION:
URL:https://www.dizy.fr/evenement/kuduro-fit-usd-section-kuduro-fit-zumba/2023-11-14/
LOCATION:Salle omnisports\, 51 rue de la Briquèterie\, DIZY\, Sélectionner un État :\, 51530\, France
CATEGORIES:Agenda
END:VEVENT
BEGIN:VEVENT
DTSTART;TZID=Europe/Paris:20231117T174500
DTEND;TZID=Europe/Paris:20231117T194500
DTSTAMP:20260426T051429
CREATED:20230828T145650Z
LAST-MODIFIED:20230828T145650Z
UID:10001332-1700243100-1700250300@www.dizy.fr
SUMMARY:Zumba - USD Section Kuduro Fit Zumba
DESCRIPTION:
URL:https://www.dizy.fr/evenement/zumba-usd-section-kuduro-fit-zumba/2023-11-17/
LOCATION:Salle omnisports\, 51 rue de la Briquèterie\, DIZY\, Sélectionner un État :\, 51530\, France
CATEGORIES:Agenda
END:VEVENT
BEGIN:VEVENT
DTSTART;TZID=Europe/Paris:20231121T173000
DTEND;TZID=Europe/Paris:20231121T193000
DTSTAMP:20260426T051429
CREATED:20230828T145414Z
LAST-MODIFIED:20230828T145414Z
UID:10001289-1700587800-1700595000@www.dizy.fr
SUMMARY:Kuduro Fit - USD Section Kuduro Fit Zumba
DESCRIPTION:
URL:https://www.dizy.fr/evenement/kuduro-fit-usd-section-kuduro-fit-zumba/2023-11-21/
LOCATION:Salle omnisports\, 51 rue de la Briquèterie\, DIZY\, Sélectionner un État :\, 51530\, France
CATEGORIES:Agenda
END:VEVENT
BEGIN:VEVENT
DTSTART;TZID=Europe/Paris:20231124T174500
DTEND;TZID=Europe/Paris:20231124T194500
DTSTAMP:20260426T051429
CREATED:20230828T145650Z
LAST-MODIFIED:20230828T145650Z
UID:10001333-1700847900-1700855100@www.dizy.fr
SUMMARY:Zumba - USD Section Kuduro Fit Zumba
DESCRIPTION:
URL:https://www.dizy.fr/evenement/zumba-usd-section-kuduro-fit-zumba/2023-11-24/
LOCATION:Salle omnisports\, 51 rue de la Briquèterie\, DIZY\, Sélectionner un État :\, 51530\, France
CATEGORIES:Agenda
END:VEVENT
BEGIN:VEVENT
DTSTART;TZID=Europe/Paris:20231128T173000
DTEND;TZID=Europe/Paris:20231128T193000
DTSTAMP:20260426T051429
CREATED:20230828T145414Z
LAST-MODIFIED:20230828T145414Z
UID:10001290-1701192600-1701199800@www.dizy.fr
SUMMARY:Kuduro Fit - USD Section Kuduro Fit Zumba
DESCRIPTION:
URL:https://www.dizy.fr/evenement/kuduro-fit-usd-section-kuduro-fit-zumba/2023-11-28/
LOCATION:Salle omnisports\, 51 rue de la Briquèterie\, DIZY\, Sélectionner un État :\, 51530\, France
CATEGORIES:Agenda
END:VEVENT
END:VCALENDAR