BEGIN:VCALENDAR
VERSION:2.0
PRODID:-//Dizy - Porte du Vignoble - ECPv6.0.13.1//NONSGML v1.0//EN
CALSCALE:GREGORIAN
METHOD:PUBLISH
X-WR-CALNAME:Dizy - Porte du Vignoble
X-ORIGINAL-URL:https://www.dizy.fr
X-WR-CALDESC:évènements pour Dizy - Porte du Vignoble
REFRESH-INTERVAL;VALUE=DURATION:PT1H
X-Robots-Tag:noindex
X-PUBLISHED-TTL:PT1H
BEGIN:VTIMEZONE
TZID:Europe/Paris
BEGIN:DAYLIGHT
TZOFFSETFROM:+0100
TZOFFSETTO:+0200
TZNAME:CEST
DTSTART:20240331T010000
END:DAYLIGHT
BEGIN:STANDARD
TZOFFSETFROM:+0200
TZOFFSETTO:+0100
TZNAME:CET
DTSTART:20241027T010000
END:STANDARD
END:VTIMEZONE
BEGIN:VEVENT
DTSTART;VALUE=DATE:20240513
DTEND;VALUE=DATE:20240526
DTSTAMP:20260423T054119
CREATED:20240409T122940Z
LAST-MODIFIED:20240513T123239Z
UID:10001668-1715558400-1716681599@www.dizy.fr
SUMMARY:Le bistrot des marmots
DESCRIPTION:Ouvert après l’école. Gaufres\, barbe à papa\, limonade et chevaux de bois. Théâtre et ateliers artistiques. \nEntrée libre et gratuite\, pour les ateliers et les spectacles (réservation recommandée).\nGaufres et autres friandises à prix libre.\nBoissons alcoolisées tarifées. \nMercredi 15 mai de 12h15 à 17h15\nAtelier de découverte artistique pour les enfants (de 7 à 11 ans) \nJeudi 16 mai de 14:00 à 17:00\nAtelier de création de costumes pour les adultes \nJeudi 16 mai de 19:00 à 21:30\nAtelier de découverte du théâtre pour les parents et les enfants \nSamedi 18 mai à 19:30\nÀ gauche en sortant du cauchemar spectacle à partir de 15 ans \nDim. 19 mai de 14:00 à 17:00\nAtelier d ‘ improvisation théâtrale pour les parents et les enfants \nMercredi 22 mai à 15:00\nA Clown\, spectacle à partir de 4 ans \nJeudi 23 de 14:00 à 17:00\nAtelier de création de costumes pour les adultes \nVendredi 24 mai à 19:30\nÀ table ! Apéro-théâtre tout public \nSamedi 25 mai à 19:30\nLes Dizylliades\nSpectacle tout public créé pour la commune de Dizy \n\n\n\n\nThèmes \n\n\n\n\nPour enfant
URL:https://www.dizy.fr/evenement/le-bistrot-des-marmots/
LOCATION:Salle des fêtes\, 284\, rue du Vieux Château\, Dizy\, 51530\, France
CATEGORIES:culture
ORGANIZER;CN="MJCi%20A%C3%BF-Champagne":MAILTO:mailto:contact@mjc-ay.com
END:VEVENT
BEGIN:VEVENT
DTSTART;TZID=Europe/Paris:20240520T092000
DTEND;TZID=Europe/Paris:20240520T102000
DTSTAMP:20260423T054119
CREATED:20230828T095851Z
LAST-MODIFIED:20230828T141655Z
UID:10000646-1716196800-1716200400@www.dizy.fr
SUMMARY:Qi Gong S-Pass Détente
DESCRIPTION:Salle Rouges Chausses
URL:https://www.dizy.fr/evenement/yoga-yin-s-pass-detente/2024-05-20/
LOCATION:Maison des associations\, 261\, rue du Vieux Château\, Dizy\, 51530\, France
CATEGORIES:Agenda
ORGANIZER;CN="Association%20S-Pass%20D%C3%A9tente":MAILTO:spassdetentedizy@gmail.com
END:VEVENT
BEGIN:VEVENT
DTSTART;TZID=Europe/Paris:20240520T103000
DTEND;TZID=Europe/Paris:20240520T113000
DTSTAMP:20260423T054119
CREATED:20230828T100849Z
LAST-MODIFIED:20230828T141646Z
UID:10000690-1716201000-1716204600@www.dizy.fr
SUMMARY:Qi Gong S-Pass Détente
DESCRIPTION:Salle Rouges Chausses
URL:https://www.dizy.fr/evenement/qi-gong-s-pass-detente/2024-05-20/
LOCATION:Maison des associations\, 261\, rue du Vieux Château\, Dizy\, 51530\, France
CATEGORIES:Agenda
ORGANIZER;CN="Association%20S-Pass%20D%C3%A9tente":MAILTO:spassdetentedizy@gmail.com
END:VEVENT
BEGIN:VEVENT
DTSTART;TZID=Europe/Paris:20240520T143000
DTEND;TZID=Europe/Paris:20240520T163000
DTSTAMP:20260423T054119
CREATED:20230828T150230Z
LAST-MODIFIED:20230828T150230Z
UID:10001448-1716215400-1716222600@www.dizy.fr
SUMMARY:Scrabble Duplicate - Association S-Pass Détente
DESCRIPTION:Salle Les Cerisières
URL:https://www.dizy.fr/evenement/scrabble-duplicate-association-s-pass-detente/2024-05-20/
LOCATION:Salle Les Cerisières\, 261\, rue du Vieux Château\, Dizy\, 51530\, France
CATEGORIES:Agenda
ORGANIZER;CN="Association%20S-Pass%20D%C3%A9tente":MAILTO:spassdetentedizy@gmail.com
END:VEVENT
BEGIN:VEVENT
DTSTART;TZID=Europe/Paris:20240520T180000
DTEND;TZID=Europe/Paris:20240520T190000
DTSTAMP:20260423T054119
CREATED:20230828T130700Z
LAST-MODIFIED:20230828T141744Z
UID:10000912-1716228000-1716231600@www.dizy.fr
SUMMARY:Dance Modern Jazz - Spirit Dance Studio Streching/Yoga
DESCRIPTION:Salle Rouges Chausses (lundi) \nSalle Grimpe Chat (mercredi)
URL:https://www.dizy.fr/evenement/dance-modern-jazz-spirit-dance-studio-streching-yoga/2024-05-20/
LOCATION:Maison des associations\, 261\, rue du Vieux Château\, Dizy\, 51530\, France
CATEGORIES:Agenda
ORGANIZER;CN="Association%20Spirit%20Dance%20Studio":MAILTO:spiritdancestudioepernay@gmail.com
END:VEVENT
BEGIN:VEVENT
DTSTART;TZID=Europe/Paris:20240520T183000
DTEND;TZID=Europe/Paris:20240520T193000
DTSTAMP:20260423T054119
CREATED:20230828T135209Z
LAST-MODIFIED:20240206T103249Z
UID:10001222-1716229800-1716233400@www.dizy.fr
SUMMARY:Renforcement musculaire - USD Section Gym
DESCRIPTION:
URL:https://www.dizy.fr/evenement/renforcement-musculaire-usd-section-gym/2024-05-20/
LOCATION:Salle omnisports\, 51 rue de la Briquèterie\, DIZY\, Sélectionner un État :\, 51530\, France
CATEGORIES:Agenda
END:VEVENT
BEGIN:VEVENT
DTSTART;TZID=Europe/Paris:20240520T193000
DTEND;TZID=Europe/Paris:20240520T213000
DTSTAMP:20260423T054119
CREATED:20230828T130925Z
LAST-MODIFIED:20230828T141732Z
UID:10000957-1716233400-1716240600@www.dizy.fr
SUMMARY:Dance Modern Jazz - Spirit Dance Studio Adultes
DESCRIPTION:Salle Rouges Chausses (lundi) \nSalle Grimpe Chat (mercredi)
URL:https://www.dizy.fr/evenement/dance-modern-jazz-spirit-dance-studio-adultes/2024-05-20/
LOCATION:Maison des associations\, 261\, rue du Vieux Château\, Dizy\, 51530\, France
CATEGORIES:Agenda
ORGANIZER;CN="Association%20Spirit%20Dance%20Studio":MAILTO:spiritdancestudioepernay@gmail.com
END:VEVENT
BEGIN:VEVENT
DTSTART;TZID=Europe/Paris:20240520T194500
DTEND;TZID=Europe/Paris:20240520T210000
DTSTAMP:20260423T054119
CREATED:20230828T145933Z
LAST-MODIFIED:20230828T145933Z
UID:10001404-1716234300-1716238800@www.dizy.fr
SUMMARY:Renforcement musculaire - Association Les Galipettes
DESCRIPTION:
URL:https://www.dizy.fr/evenement/renforcement-musculaire-association-les-galipettes/2024-05-20/
LOCATION:Salle omnisports\, 51 rue de la Briquèterie\, DIZY\, Sélectionner un État :\, 51530\, France
CATEGORIES:Agenda
END:VEVENT
END:VCALENDAR