BEGIN:VCALENDAR
VERSION:2.0
PRODID:-//Dizy - Porte du Vignoble - ECPv6.0.13.1//NONSGML v1.0//EN
CALSCALE:GREGORIAN
METHOD:PUBLISH
X-WR-CALNAME:Dizy - Porte du Vignoble
X-ORIGINAL-URL:https://www.dizy.fr
X-WR-CALDESC:évènements pour Dizy - Porte du Vignoble
REFRESH-INTERVAL;VALUE=DURATION:PT1H
X-Robots-Tag:noindex
X-PUBLISHED-TTL:PT1H
BEGIN:VTIMEZONE
TZID:Europe/Paris
BEGIN:DAYLIGHT
TZOFFSETFROM:+0100
TZOFFSETTO:+0200
TZNAME:CEST
DTSTART:20240331T010000
END:DAYLIGHT
BEGIN:STANDARD
TZOFFSETFROM:+0200
TZOFFSETTO:+0100
TZNAME:CET
DTSTART:20241027T010000
END:STANDARD
END:VTIMEZONE
BEGIN:VEVENT
DTSTART;VALUE=DATE:20240513
DTEND;VALUE=DATE:20240526
DTSTAMP:20260423T053826
CREATED:20240409T122940Z
LAST-MODIFIED:20240513T123239Z
UID:10001668-1715558400-1716681599@www.dizy.fr
SUMMARY:Le bistrot des marmots
DESCRIPTION:Ouvert après l’école. Gaufres\, barbe à papa\, limonade et chevaux de bois. Théâtre et ateliers artistiques. \nEntrée libre et gratuite\, pour les ateliers et les spectacles (réservation recommandée).\nGaufres et autres friandises à prix libre.\nBoissons alcoolisées tarifées. \nMercredi 15 mai de 12h15 à 17h15\nAtelier de découverte artistique pour les enfants (de 7 à 11 ans) \nJeudi 16 mai de 14:00 à 17:00\nAtelier de création de costumes pour les adultes \nJeudi 16 mai de 19:00 à 21:30\nAtelier de découverte du théâtre pour les parents et les enfants \nSamedi 18 mai à 19:30\nÀ gauche en sortant du cauchemar spectacle à partir de 15 ans \nDim. 19 mai de 14:00 à 17:00\nAtelier d ‘ improvisation théâtrale pour les parents et les enfants \nMercredi 22 mai à 15:00\nA Clown\, spectacle à partir de 4 ans \nJeudi 23 de 14:00 à 17:00\nAtelier de création de costumes pour les adultes \nVendredi 24 mai à 19:30\nÀ table ! Apéro-théâtre tout public \nSamedi 25 mai à 19:30\nLes Dizylliades\nSpectacle tout public créé pour la commune de Dizy \n\n\n\n\nThèmes \n\n\n\n\nPour enfant
URL:https://www.dizy.fr/evenement/le-bistrot-des-marmots/
LOCATION:Salle des fêtes\, 284\, rue du Vieux Château\, Dizy\, 51530\, France
CATEGORIES:culture
ORGANIZER;CN="MJCi%20A%C3%BF-Champagne":MAILTO:mailto:contact@mjc-ay.com
END:VEVENT
BEGIN:VEVENT
DTSTART;TZID=Europe/Paris:20240518T093000
DTEND;TZID=Europe/Paris:20240518T104500
DTSTAMP:20260423T053826
CREATED:20230828T125504Z
LAST-MODIFIED:20230828T141837Z
UID:10000867-1716024600-1716029100@www.dizy.fr
SUMMARY:Dance Modern Jazz - Spirit Dance Studio (7-9 ans)
DESCRIPTION:Salle Rouges Chausses
URL:https://www.dizy.fr/evenement/dance-modern-jazz-spirit-dance-studio-7-9-ans/2024-05-18/
LOCATION:Maison des associations\, 261\, rue du Vieux Château\, Dizy\, 51530\, France
CATEGORIES:Agenda
ORGANIZER;CN="Association%20Spirit%20Dance%20Studio":MAILTO:spiritdancestudioepernay@gmail.com
END:VEVENT
BEGIN:VEVENT
DTSTART;TZID=Europe/Paris:20240518T093000
DTEND;TZID=Europe/Paris:20240518T104500
DTSTAMP:20260423T053826
CREATED:20230828T131626Z
LAST-MODIFIED:20230828T141758Z
UID:10001090-1716024600-1716029100@www.dizy.fr
SUMMARY:Dance Modern Jazz - Spirit Dance Studio (7-9 ans)
DESCRIPTION:Salle Rouges Chausses
URL:https://www.dizy.fr/evenement/dance-modern-jazz-spirit-dance-studio-7-9-ans-2/2024-05-18/
LOCATION:Maison des associations\, 261\, rue du Vieux Château\, Dizy\, 51530\, France
CATEGORIES:Agenda
END:VEVENT
BEGIN:VEVENT
DTSTART;TZID=Europe/Paris:20240518T110000
DTEND;TZID=Europe/Paris:20240518T123000
DTSTAMP:20260423T053826
CREATED:20230828T131744Z
LAST-MODIFIED:20230828T141749Z
UID:10001134-1716030000-1716035400@www.dizy.fr
SUMMARY:Dance Modern Jazz - Spirit Dance Studio (10-13 ans)
DESCRIPTION:Salle Rouges Chausses
URL:https://www.dizy.fr/evenement/dance-modern-jazz-spirit-dance-studio-10-13-ans/2024-05-18/
LOCATION:Maison des associations\, 261\, rue du Vieux Château\, Dizy\, 51530\, France
CATEGORIES:Agenda
ORGANIZER;CN="Association%20Spirit%20Dance%20Studio":MAILTO:spiritdancestudioepernay@gmail.com
END:VEVENT
BEGIN:VEVENT
DTSTART;TZID=Europe/Paris:20240518T160000
DTEND;TZID=Europe/Paris:20240518T180000
DTSTAMP:20260423T053826
CREATED:20230828T131911Z
LAST-MODIFIED:20230828T135723Z
UID:10001178-1716048000-1716055200@www.dizy.fr
SUMMARY:Dance Modern Jazz - Spirit Dance Studio (chorégraphes)
DESCRIPTION:Salle Rouges Chausses
URL:https://www.dizy.fr/evenement/dance-modern-jazz-spirit-dance-studio-choregraphes/2024-05-18/
LOCATION:Maison des associations\, 261\, rue du Vieux Château\, Dizy\, 51530\, France
CATEGORIES:Agenda
ORGANIZER;CN="Association%20Spirit%20Dance%20Studio":MAILTO:spiritdancestudioepernay@gmail.com
END:VEVENT
BEGIN:VEVENT
DTSTART;TZID=Europe/Paris:20240518T193000
DTEND;TZID=Europe/Paris:20240518T233000
DTSTAMP:20260423T053826
CREATED:20240415T123412Z
LAST-MODIFIED:20240513T123537Z
UID:10001670-1716060600-1716075000@www.dizy.fr
SUMMARY:Le bistrot des marmots
DESCRIPTION:Ouvert après l’école. Gaufres\, barbe à papa\, limonade et chevaux de bois. Théâtre et ateliers artistiques. \nEntrée libre et gratuite\, pour les ateliers et les spectacles (réservation recommandée).\nGaufres et autres friandises à prix libre.\nBoissons alcoolisées tarifées. \nSamedi 18 mai à 19:30\nÀ gauche en sortant du cauchemar spectacle à partir de 15 ans \n 
URL:https://www.dizy.fr/evenement/6735/
LOCATION:Salle des fêtes\, 284\, rue du Vieux Château\, Dizy\, 51530\, France
ORGANIZER;CN="MJCi%20A%C3%BF-Champagne":MAILTO:mailto:contact@mjc-ay.com
END:VEVENT
END:VCALENDAR